BEGIN:VCALENDAR
VERSION:2.0
PRODID:-//TIS FAMILY COMMUNITY - ECPv6.10.1.1//NONSGML v1.0//EN
CALSCALE:GREGORIAN
METHOD:PUBLISH
X-ORIGINAL-URL:https://tfc.tokyois.com
X-WR-CALDESC:Events for TIS FAMILY COMMUNITY
REFRESH-INTERVAL;VALUE=DURATION:PT1H
X-Robots-Tag:noindex
X-PUBLISHED-TTL:PT1H
BEGIN:VTIMEZONE
TZID:Asia/Tokyo
BEGIN:STANDARD
TZOFFSETFROM:+0900
TZOFFSETTO:+0900
TZNAME:JST
DTSTART:20240101T000000
END:STANDARD
END:VTIMEZONE
BEGIN:VEVENT
DTSTART;VALUE=DATE:20240501
DTEND;VALUE=DATE:20240504
DTSTAMP:20260426T031352
CREATED:20230618T030041Z
LAST-MODIFIED:20230816T113051Z
UID:3602-1714521600-1714780799@tfc.tokyois.com
SUMMARY:Golden Week Holiday
DESCRIPTION:
URL:https://tfc.tokyois.com/event/golden-week-holiday-2/
CATEGORIES:TIS
END:VEVENT
BEGIN:VEVENT
DTSTART;TZID=Asia/Tokyo:20240507T083000
DTEND;TZID=Asia/Tokyo:20240507T103000
DTSTAMP:20260426T031352
CREATED:20230814T030018Z
LAST-MODIFIED:20230904T154855Z
UID:3698-1715070600-1715077800@tfc.tokyois.com
SUMMARY:TFC Team Leads Meeting (Current team leads only)
DESCRIPTION:Content is protected.
URL:https://tfc.tokyois.com/event/tfc-team-leads-meeting-10/
CATEGORIES:TFC
ORGANIZER;CN="TFC Lead coordinators":MAILTO:tfc_coordinator@tokyois.com
END:VEVENT
BEGIN:VEVENT
DTSTART;TZID=Asia/Tokyo:20240508T083000
DTEND;TZID=Asia/Tokyo:20240508T100000
DTSTAMP:20260426T031352
CREATED:20230814T030002Z
LAST-MODIFIED:20230904T051705Z
UID:3617-1715157000-1715162400@tfc.tokyois.com
SUMMARY:Coffee/Chat Morning with Dan and Dave & TFC Updates
DESCRIPTION:This presents a wonderful opportunity for all TIS families to reconnect with our Heads of School\, Dan\, and our Whole School Principal\, Dave. It is designed as an informal discussion\, encouraging questions and feedback. \nWe also encourage you to stay for our TFC catch-up meeting!
URL:https://tfc.tokyois.com/event/coffee-chat-morning-with-dan-and-dave-tfc-updates-5/
CATEGORIES:TFC,TIS
ATTACH;FMTTYPE=image/png:https://tfc.tokyois.com/wp-content/uploads/2023/09/2024-May-Coffee-Morning-w_-D-D.png
END:VEVENT
BEGIN:VEVENT
DTSTART;VALUE=DATE:20240515
DTEND;VALUE=DATE:20240518
DTSTAMP:20260426T031352
CREATED:20230618T030002Z
LAST-MODIFIED:20230816T140055Z
UID:3664-1715731200-1715990399@tfc.tokyois.com
SUMMARY:G4 Residential Trip
DESCRIPTION:
URL:https://tfc.tokyois.com/event/g4-residential-trip/
CATEGORIES:TIS
END:VEVENT
BEGIN:VEVENT
DTSTART;VALUE=DATE:20240516
DTEND;VALUE=DATE:20240518
DTSTAMP:20260426T031352
CREATED:20230618T030046Z
LAST-MODIFIED:20230816T140309Z
UID:3666-1715817600-1715990399@tfc.tokyois.com
SUMMARY:G3 Residential Trip
DESCRIPTION:
URL:https://tfc.tokyois.com/event/g3-residential-trip/
CATEGORIES:TIS
END:VEVENT
BEGIN:VEVENT
DTSTART;TZID=Asia/Tokyo:20240520T112000
DTEND;TZID=Asia/Tokyo:20240520T140000
DTSTAMP:20260426T031352
CREATED:20230814T030041Z
LAST-MODIFIED:20240919T015107Z
UID:3816-1716204000-1716213600@tfc.tokyois.com
SUMMARY:May Popcorn Day
DESCRIPTION:We will be offering popcorn during recess time directly after lunch. If your child wishes to purchase popcorn to support us\, please send them into school with ¥100. \nThe volunteers list is published on the website below. If you are interested in volunteering or have any questions\, please contact us! \nPlease click HERE to contact us.
URL:https://tfc.tokyois.com/event/may-popcorn-day-2/
CATEGORIES:Fundraising
ATTACH;FMTTYPE=image/png:https://tfc.tokyois.com/wp-content/uploads/2023/09/2024-May-Popcorn.png
ORGANIZER;CN="Fundraising coordinators":MAILTO:tfc_fundraising@tokyois.com
END:VEVENT
BEGIN:VEVENT
DTSTART;TZID=Asia/Tokyo:20240521T090000
DTEND;TZID=Asia/Tokyo:20240521T110000
DTSTAMP:20260426T031352
CREATED:20240130T030052Z
LAST-MODIFIED:20240130T050719Z
UID:4523-1716282000-1716289200@tfc.tokyois.com
SUMMARY:Mizuhiki（水引）Workshop
DESCRIPTION:Mizuhiki\, an ancient Japanese art form of knot-tying dating back to the eighth century\, holds deep cultural significance. \nIn this workshop\, you’ll have the opportunity to learn one of the most common knot styles\, “awaji-musubi\,” and more! \nPlease see the website below for more information.
URL:https://tfc.tokyois.com/event/mizuhiki%ef%bc%88%e6%b0%b4%e5%bc%95%ef%bc%89workshop/
CATEGORIES:Parent Clubs
ATTACH;FMTTYPE=image/png:https://tfc.tokyois.com/wp-content/uploads/2024/01/Mizuhiki-1.png
END:VEVENT
BEGIN:VEVENT
DTSTART;VALUE=DATE:20240531
DTEND;VALUE=DATE:20240601
DTSTAMP:20260426T031352
CREATED:20230618T030048Z
LAST-MODIFIED:20230816T112438Z
UID:3592-1717113600-1717199999@tfc.tokyois.com
SUMMARY:Professional Development for Staff (No school for students)
DESCRIPTION:
URL:https://tfc.tokyois.com/event/professional-development-for-staff-no-school-for-students-8/
CATEGORIES:TIS
END:VEVENT
END:VCALENDAR