BEGIN:VCALENDAR
VERSION:2.0
PRODID:-//TIS FAMILY COMMUNITY - ECPv6.10.1.1//NONSGML v1.0//EN
CALSCALE:GREGORIAN
METHOD:PUBLISH
X-WR-CALNAME:TIS FAMILY COMMUNITY
X-ORIGINAL-URL:https://tfc.tokyois.com
X-WR-CALDESC:Events for TIS FAMILY COMMUNITY
REFRESH-INTERVAL;VALUE=DURATION:PT1H
X-Robots-Tag:noindex
X-PUBLISHED-TTL:PT1H
BEGIN:VTIMEZONE
TZID:Asia/Tokyo
BEGIN:STANDARD
TZOFFSETFROM:+0900
TZOFFSETTO:+0900
TZNAME:JST
DTSTART:20240101T000000
END:STANDARD
END:VTIMEZONE
BEGIN:VEVENT
DTSTART;VALUE=DATE:20240315
DTEND;VALUE=DATE:20240413
DTSTAMP:20260426T050712
CREATED:20240315T030054Z
LAST-MODIFIED:20240316T124710Z
UID:4632-1710460800-1712966399@tfc.tokyois.com
SUMMARY:2024 Spring Fair Token & Game Wristband Pre-Sale
DESCRIPTION:Get a head start at the Spring Fair! As a TIS family member\, you have the exclusive opportunity to pre-purchase tokens (“the Fair’s official currency”) and game wristbands. While the general public waits in line for token and game wristband purchases\, you can skip the queue and dive straight into the fun at the food booths\, games\, and arts and crafts areas! \nPlease see the website below for more information.
URL:https://tfc.tokyois.com/event/2024-spring-fair-token-game-wristband-pre-sale-starts/
CATEGORIES:Spring Fair
ATTACH;FMTTYPE=image/png:https://tfc.tokyois.com/wp-content/uploads/2024/03/Token-Wristband.png
ORGANIZER;CN="Spring Fair Team":MAILTO:cbf_team@tokyois.com
END:VEVENT
BEGIN:VEVENT
DTSTART;TZID=Asia/Tokyo:20240405T080000
DTEND;TZID=Asia/Tokyo:20240405T160000
DTSTAMP:20260426T050712
CREATED:20240322T030047Z
LAST-MODIFIED:20240406T133247Z
UID:4724-1712304000-1712332800@tfc.tokyois.com
SUMMARY:2024 Spring Fair Bazaar & Used Books – Donations Drop-off
DESCRIPTION:Donate your new or gently used items for the Bazaar & Used Book Sale! \nPlease see the website below for more information.
URL:https://tfc.tokyois.com/event/bazaar-used-books-donations-needed/
CATEGORIES:Spring Fair
ATTACH;FMTTYPE=image/png:https://tfc.tokyois.com/wp-content/uploads/2024/03/Bazaar-Used-Book-1.png
ORGANIZER;CN="Spring Fair Team":MAILTO:cbf_team@tokyois.com
END:VEVENT
BEGIN:VEVENT
DTSTART;TZID=Asia/Tokyo:20240409T083000
DTEND;TZID=Asia/Tokyo:20240409T103000
DTSTAMP:20260426T050712
CREATED:20230814T030004Z
LAST-MODIFIED:20240315T080144Z
UID:3696-1712651400-1712658600@tfc.tokyois.com
SUMMARY:TFC Team Leads Meeting (Current team leads only)
DESCRIPTION:Content is protected.
URL:https://tfc.tokyois.com/event/tfc-team-leads-meeting-9/
CATEGORIES:TFC
ORGANIZER;CN="TFC Lead coordinators":MAILTO:tfc_coordinator@tokyois.com
END:VEVENT
BEGIN:VEVENT
DTSTART;TZID=Asia/Tokyo:20240411T090000
DTEND;TZID=Asia/Tokyo:20240417T210000
DTSTAMP:20260426T050712
CREATED:20240403T030021Z
LAST-MODIFIED:20240406T142824Z
UID:4732-1712826000-1713387600@tfc.tokyois.com
SUMMARY:2024 Spring Fair Online Silent Auction
DESCRIPTION:Please come and join us in our Spring Fair 2024 online silent auction!\nExplore a diverse range of items available\, from stunning artworks done by our students to unique experiences and much more. \nRemember\, every bid supports a great cause. All proceeds will be shared between the local charity Mirai no Mori and the TiS Grants program. \nPlease see the website below for more information.
URL:https://tfc.tokyois.com/event/2024-spring-fair-online-silent-auction/
CATEGORIES:Spring Fair
ATTACH;FMTTYPE=image/png:https://tfc.tokyois.com/wp-content/uploads/2024/04/Silent-Auction.png
ORGANIZER;CN="Spring Fair Team":MAILTO:cbf_team@tokyois.com
END:VEVENT
BEGIN:VEVENT
DTSTART;VALUE=DATE:20240419
DTEND;VALUE=DATE:20240420
DTSTAMP:20260426T050712
CREATED:20230618T030035Z
LAST-MODIFIED:20230816T135200Z
UID:3659-1713484800-1713571199@tfc.tokyois.com
SUMMARY:PYP & MYP Student Led Conferences (No classes for students)
DESCRIPTION:
URL:https://tfc.tokyois.com/event/pyp-myp-student-led-conferences-no-classes-for-students-2/
CATEGORIES:TIS
END:VEVENT
BEGIN:VEVENT
DTSTART;TZID=Asia/Tokyo:20240419T080000
DTEND;TZID=Asia/Tokyo:20240419T130000
DTSTAMP:20260426T050712
CREATED:20240322T030018Z
LAST-MODIFIED:20240406T133322Z
UID:4728-1713513600-1713531600@tfc.tokyois.com
SUMMARY:2024 Spring Fair Bazaar & Used Books – Donations Drop-off
DESCRIPTION:Donate your new or gently used items for the Bazaar & Used Book Sale! \nPlease see the website below for more information.
URL:https://tfc.tokyois.com/event/2024-spring-fair-bazaar-used-books-drop-off-donations/
CATEGORIES:Spring Fair
ATTACH;FMTTYPE=image/png:https://tfc.tokyois.com/wp-content/uploads/2024/03/Bazaar-Used-Book-1.png
ORGANIZER;CN="Spring Fair Team":MAILTO:cbf_team@tokyois.com
END:VEVENT
BEGIN:VEVENT
DTSTART;TZID=Asia/Tokyo:20240420T110000
DTEND;TZID=Asia/Tokyo:20240420T150000
DTSTAMP:20260426T050712
CREATED:20230814T030022Z
LAST-MODIFIED:20240315T075219Z
UID:3657-1713610800-1713625200@tfc.tokyois.com
SUMMARY:2024 TIS Spring Fair
DESCRIPTION:Get ready to bask in the joy of the community coming together at the Spring Fair\, a heartwarming celebration hosted by the TIS Family Community (TFC)! This event is more than just a gathering of the school and local communities; it’s a vibrant occasion that radiates positivity while raising funds for local charities and the TIS Grants. \nImmerse yourself in the sheer delight of international cuisines\, revel in lively games\, unleash your creativity with art and crafts\, and discover unique treasures at the bazaar. \nPlease see the website below for more information.
URL:https://tfc.tokyois.com/event/spring-fair/
CATEGORIES:Spring Fair
ATTACH;FMTTYPE=image/png:https://tfc.tokyois.com/wp-content/uploads/2024/03/Sunny-Day-2.png
ORGANIZER;CN="Spring Fair Team":MAILTO:cbf_team@tokyois.com
END:VEVENT
END:VCALENDAR