BEGIN:VCALENDAR
VERSION:2.0
PRODID:-//TIS FAMILY COMMUNITY - ECPv6.10.1.1//NONSGML v1.0//EN
CALSCALE:GREGORIAN
METHOD:PUBLISH
X-ORIGINAL-URL:https://tfc.tokyois.com
X-WR-CALDESC:Events for TIS FAMILY COMMUNITY
REFRESH-INTERVAL;VALUE=DURATION:PT1H
X-Robots-Tag:noindex
X-PUBLISHED-TTL:PT1H
BEGIN:VTIMEZONE
TZID:Asia/Tokyo
BEGIN:STANDARD
TZOFFSETFROM:+0900
TZOFFSETTO:+0900
TZNAME:JST
DTSTART:20230101T000000
END:STANDARD
END:VTIMEZONE
BEGIN:VEVENT
DTSTART;VALUE=DATE:20231218
DTEND;VALUE=DATE:20240106
DTSTAMP:20260426T095731
CREATED:20230618T030054Z
LAST-MODIFIED:20230816T112321Z
UID:3596-1702857600-1704499199@tfc.tokyois.com
SUMMARY:Winter Break
DESCRIPTION:
URL:https://tfc.tokyois.com/event/winter-break-2/
CATEGORIES:TIS
END:VEVENT
BEGIN:VEVENT
DTSTART;TZID=Asia/Tokyo:20240109T083000
DTEND;TZID=Asia/Tokyo:20240109T103000
DTSTAMP:20260426T095731
CREATED:20230814T030016Z
LAST-MODIFIED:20230904T155400Z
UID:3690-1704789000-1704796200@tfc.tokyois.com
SUMMARY:TFC Team Leads Meeting (Current team leads only)
DESCRIPTION:Content is protected.
URL:https://tfc.tokyois.com/event/tfc-team-leads-meeting-6/
CATEGORIES:TFC
ORGANIZER;CN="TFC Lead coordinators":MAILTO:tfc_coordinator@tokyois.com
END:VEVENT
BEGIN:VEVENT
DTSTART;TZID=Asia/Tokyo:20240111T090000
DTEND;TZID=Asia/Tokyo:20240111T110000
DTSTAMP:20260426T095731
CREATED:20231212T030002Z
LAST-MODIFIED:20240110T074513Z
UID:4375-1704963600-1704970800@tfc.tokyois.com
SUMMARY:Kakizome ( 書き初め) Workshop
DESCRIPTION:Start 2024 by making friends and trying something new! Learn to do kakizome on Thursday\, January 11\, 2024. Some of our Japanese TIS moms will help you make your own “start-of-year” pieces. \nPlease see the website below for more information.
URL:https://tfc.tokyois.com/event/kakizome-%e6%9b%b8%e3%81%8d%e5%88%9d%e3%82%81-workshop/
CATEGORIES:Parent Clubs,Parent Workshops
ATTACH;FMTTYPE=image/png:https://tfc.tokyois.com/wp-content/uploads/2024/01/2024-Kakizome.png
ORGANIZER;CN="Parent Clubs":MAILTO:tfc_parentclubs@tokyois.com
END:VEVENT
BEGIN:VEVENT
DTSTART;TZID=Asia/Tokyo:20240111T100000
DTEND;TZID=Asia/Tokyo:20240111T110000
DTSTAMP:20260426T095731
CREATED:20230618T030043Z
LAST-MODIFIED:20231208T151404Z
UID:4266-1704967200-1704970800@tfc.tokyois.com
SUMMARY:Orientation for NEW students and families
DESCRIPTION:
URL:https://tfc.tokyois.com/event/orientation-for-new-students-and-families-2/
CATEGORIES:TIS
END:VEVENT
BEGIN:VEVENT
DTSTART;TZID=Asia/Tokyo:20240112T002500
DTEND;TZID=Asia/Tokyo:20240112T133000
DTSTAMP:20260426T095731
CREATED:20230814T030009Z
LAST-MODIFIED:20240919T015444Z
UID:3826-1705019100-1705066200@tfc.tokyois.com
SUMMARY:January Pizza Day
DESCRIPTION:The volunteers list is published on the website below. \nIf you are interested in volunteering or have any questions\, please contact us! \nPlease click HERE to contact us.
URL:https://tfc.tokyois.com/event/january-pizza-day-2/
CATEGORIES:Fundraising
ATTACH;FMTTYPE=image/png:https://tfc.tokyois.com/wp-content/uploads/2023/09/2024-Jan-Pizza.png
ORGANIZER;CN="Fundraising coordinators":MAILTO:tfc_fundraising@tokyois.com
END:VEVENT
BEGIN:VEVENT
DTSTART;TZID=Asia/Tokyo:20240112T173000
DTEND;TZID=Asia/Tokyo:20240112T200000
DTSTAMP:20260426T095731
CREATED:20231205T030051Z
LAST-MODIFIED:20240107T010924Z
UID:4263-1705080600-1705089600@tfc.tokyois.com
SUMMARY:MYP Winter Dance
DESCRIPTION:MYP Winter Dance is back! Please see the website below for more details.
URL:https://tfc.tokyois.com/event/myp-winter-dance/
CATEGORIES:Community Events
ATTACH;FMTTYPE=image/png:https://tfc.tokyois.com/wp-content/uploads/2024/01/MYP-Dance.png
ORGANIZER;CN="Community Events coordinators":MAILTO:tfc_events@tokyois.com
END:VEVENT
BEGIN:VEVENT
DTSTART;TZID=Asia/Tokyo:20240115T083000
DTEND;TZID=Asia/Tokyo:20240115T223000
DTSTAMP:20260426T095731
CREATED:20231212T030025Z
LAST-MODIFIED:20240106T122256Z
UID:4324-1705307400-1705357800@tfc.tokyois.com
SUMMARY:WaNavi Earthquake Preparation Workshop
DESCRIPTION:This on-campus parent workshop\, hosted by the TFC and conducted by the nonprofit group WaNavi\, will be particularly helpful for newly arrived families as well as those who want a refresher on preparation. \nPlease visit the website below for more details.
URL:https://tfc.tokyois.com/event/wanavi-earthquake-preparation-workshop/
CATEGORIES:Parent Workshops
ATTACH;FMTTYPE=image/png:https://tfc.tokyois.com/wp-content/uploads/2024/01/2024-WaNavi-Earthquake-Preparation-Workshop.png
ORGANIZER;CN="TFC Lead coordinators":MAILTO:tfc_coordinator@tokyois.com
END:VEVENT
BEGIN:VEVENT
DTSTART;VALUE=DATE:20240126
DTEND;VALUE=DATE:20240127
DTSTAMP:20260426T095731
CREATED:20230618T030007Z
LAST-MODIFIED:20230816T135418Z
UID:3648-1706227200-1706313599@tfc.tokyois.com
SUMMARY:PYP Conferences (No classes for PYP students)
DESCRIPTION:
URL:https://tfc.tokyois.com/event/pyp-conferences-no-school-for-pyp-students/
CATEGORIES:TIS
END:VEVENT
BEGIN:VEVENT
DTSTART;TZID=Asia/Tokyo:20240126T093000
DTEND;TZID=Asia/Tokyo:20240126T120000
DTSTAMP:20260426T095731
CREATED:20230814T030004Z
LAST-MODIFIED:20240126T162928Z
UID:3675-1706261400-1706270400@tfc.tokyois.com
SUMMARY:TIS Used Uniform Sale
DESCRIPTION:
URL:https://tfc.tokyois.com/event/tis-used-uniform-sale-3/
LOCATION:TIS – 1F Learning Lab
CATEGORIES:Fundraising
ATTACH;FMTTYPE=image/png:https://tfc.tokyois.com/wp-content/uploads/2023/03/Uniform-Sale.png
END:VEVENT
BEGIN:VEVENT
DTSTART;TZID=Asia/Tokyo:20240128T090000
DTEND;TZID=Asia/Tokyo:20240128T130000
DTSTAMP:20260426T095731
CREATED:20240112T030055Z
LAST-MODIFIED:20240113T165915Z
UID:4417-1706432400-1706446800@tfc.tokyois.com
SUMMARY:TIS Climbing Club
DESCRIPTION:Interested in Rock Climbing? Parents bring your coffee and cheer on your child(ren) as they reach new heights! \nIt will be divided into two sessions with a max participation of 12 per session during the trial days. One session will be from 9:00-10:30 and the second from 11:30-13:00. \nPlease see TiS Times for more information.
URL:https://tfc.tokyois.com/event/tis-climbing-club/
CATEGORIES:TFC
ATTACH;FMTTYPE=image/png:https://tfc.tokyois.com/wp-content/uploads/2023/09/Rock-Climbing.png
END:VEVENT
END:VCALENDAR