BEGIN:VCALENDAR
VERSION:2.0
PRODID:-//TIS FAMILY COMMUNITY - ECPv6.10.1.1//NONSGML v1.0//EN
CALSCALE:GREGORIAN
METHOD:PUBLISH
X-WR-CALNAME:TIS FAMILY COMMUNITY
X-ORIGINAL-URL:https://tfc.tokyois.com
X-WR-CALDESC:Events for TIS FAMILY COMMUNITY
REFRESH-INTERVAL;VALUE=DURATION:PT1H
X-Robots-Tag:noindex
X-PUBLISHED-TTL:PT1H
BEGIN:VTIMEZONE
TZID:Asia/Tokyo
BEGIN:STANDARD
TZOFFSETFROM:+0900
TZOFFSETTO:+0900
TZNAME:JST
DTSTART:20230101T000000
END:STANDARD
END:VTIMEZONE
BEGIN:VEVENT
DTSTART;TZID=Asia/Tokyo:20240128T090000
DTEND;TZID=Asia/Tokyo:20240128T130000
DTSTAMP:20260421T134452
CREATED:20240112T030055Z
LAST-MODIFIED:20240113T165915Z
UID:4417-1706432400-1706446800@tfc.tokyois.com
SUMMARY:TIS Climbing Club
DESCRIPTION:Interested in Rock Climbing? Parents bring your coffee and cheer on your child(ren) as they reach new heights! \nIt will be divided into two sessions with a max participation of 12 per session during the trial days. One session will be from 9:00-10:30 and the second from 11:30-13:00. \nPlease see TiS Times for more information.
URL:https://tfc.tokyois.com/event/tis-climbing-club/
CATEGORIES:TFC
ATTACH;FMTTYPE=image/png:https://tfc.tokyois.com/wp-content/uploads/2023/09/Rock-Climbing.png
END:VEVENT
BEGIN:VEVENT
DTSTART;TZID=Asia/Tokyo:20240126T093000
DTEND;TZID=Asia/Tokyo:20240126T120000
DTSTAMP:20260421T134452
CREATED:20230814T030004Z
LAST-MODIFIED:20240126T162928Z
UID:3675-1706261400-1706270400@tfc.tokyois.com
SUMMARY:TIS Used Uniform Sale
DESCRIPTION:
URL:https://tfc.tokyois.com/event/tis-used-uniform-sale-3/
LOCATION:TIS – 1F Learning Lab
CATEGORIES:Fundraising
ATTACH;FMTTYPE=image/png:https://tfc.tokyois.com/wp-content/uploads/2023/03/Uniform-Sale.png
END:VEVENT
BEGIN:VEVENT
DTSTART;VALUE=DATE:20240126
DTEND;VALUE=DATE:20240127
DTSTAMP:20260421T134452
CREATED:20230618T030007Z
LAST-MODIFIED:20230816T135418Z
UID:3648-1706227200-1706313599@tfc.tokyois.com
SUMMARY:PYP Conferences (No classes for PYP students)
DESCRIPTION:
URL:https://tfc.tokyois.com/event/pyp-conferences-no-school-for-pyp-students/
CATEGORIES:TIS
END:VEVENT
BEGIN:VEVENT
DTSTART;TZID=Asia/Tokyo:20240115T083000
DTEND;TZID=Asia/Tokyo:20240115T223000
DTSTAMP:20260421T134452
CREATED:20231212T030025Z
LAST-MODIFIED:20240106T122256Z
UID:4324-1705307400-1705357800@tfc.tokyois.com
SUMMARY:WaNavi Earthquake Preparation Workshop
DESCRIPTION:This on-campus parent workshop\, hosted by the TFC and conducted by the nonprofit group WaNavi\, will be particularly helpful for newly arrived families as well as those who want a refresher on preparation. \nPlease visit the website below for more details.
URL:https://tfc.tokyois.com/event/wanavi-earthquake-preparation-workshop/
CATEGORIES:Parent Workshops
ATTACH;FMTTYPE=image/png:https://tfc.tokyois.com/wp-content/uploads/2024/01/2024-WaNavi-Earthquake-Preparation-Workshop.png
ORGANIZER;CN="TFC Lead coordinators":MAILTO:tfc_coordinator@tokyois.com
END:VEVENT
BEGIN:VEVENT
DTSTART;TZID=Asia/Tokyo:20240112T173000
DTEND;TZID=Asia/Tokyo:20240112T200000
DTSTAMP:20260421T134452
CREATED:20231205T030051Z
LAST-MODIFIED:20240107T010924Z
UID:4263-1705080600-1705089600@tfc.tokyois.com
SUMMARY:MYP Winter Dance
DESCRIPTION:MYP Winter Dance is back! Please see the website below for more details.
URL:https://tfc.tokyois.com/event/myp-winter-dance/
CATEGORIES:Community Events
ATTACH;FMTTYPE=image/png:https://tfc.tokyois.com/wp-content/uploads/2024/01/MYP-Dance.png
ORGANIZER;CN="Community Events coordinators":MAILTO:tfc_events@tokyois.com
END:VEVENT
BEGIN:VEVENT
DTSTART;TZID=Asia/Tokyo:20240112T002500
DTEND;TZID=Asia/Tokyo:20240112T133000
DTSTAMP:20260421T134452
CREATED:20230814T030009Z
LAST-MODIFIED:20240919T015444Z
UID:3826-1705019100-1705066200@tfc.tokyois.com
SUMMARY:January Pizza Day
DESCRIPTION:The volunteers list is published on the website below. \nIf you are interested in volunteering or have any questions\, please contact us! \nPlease click HERE to contact us.
URL:https://tfc.tokyois.com/event/january-pizza-day-2/
CATEGORIES:Fundraising
ATTACH;FMTTYPE=image/png:https://tfc.tokyois.com/wp-content/uploads/2023/09/2024-Jan-Pizza.png
ORGANIZER;CN="Fundraising coordinators":MAILTO:tfc_fundraising@tokyois.com
END:VEVENT
BEGIN:VEVENT
DTSTART;TZID=Asia/Tokyo:20240111T100000
DTEND;TZID=Asia/Tokyo:20240111T110000
DTSTAMP:20260421T134452
CREATED:20230618T030043Z
LAST-MODIFIED:20231208T151404Z
UID:4266-1704967200-1704970800@tfc.tokyois.com
SUMMARY:Orientation for NEW students and families
DESCRIPTION:
URL:https://tfc.tokyois.com/event/orientation-for-new-students-and-families-2/
CATEGORIES:TIS
END:VEVENT
BEGIN:VEVENT
DTSTART;TZID=Asia/Tokyo:20240111T090000
DTEND;TZID=Asia/Tokyo:20240111T110000
DTSTAMP:20260421T134452
CREATED:20231212T030002Z
LAST-MODIFIED:20240110T074513Z
UID:4375-1704963600-1704970800@tfc.tokyois.com
SUMMARY:Kakizome ( 書き初め) Workshop
DESCRIPTION:Start 2024 by making friends and trying something new! Learn to do kakizome on Thursday\, January 11\, 2024. Some of our Japanese TIS moms will help you make your own “start-of-year” pieces. \nPlease see the website below for more information.
URL:https://tfc.tokyois.com/event/kakizome-%e6%9b%b8%e3%81%8d%e5%88%9d%e3%82%81-workshop/
CATEGORIES:Parent Clubs,Parent Workshops
ATTACH;FMTTYPE=image/png:https://tfc.tokyois.com/wp-content/uploads/2024/01/2024-Kakizome.png
ORGANIZER;CN="Parent Clubs":MAILTO:tfc_parentclubs@tokyois.com
END:VEVENT
BEGIN:VEVENT
DTSTART;TZID=Asia/Tokyo:20240109T083000
DTEND;TZID=Asia/Tokyo:20240109T103000
DTSTAMP:20260421T134452
CREATED:20230814T030016Z
LAST-MODIFIED:20230904T155400Z
UID:3690-1704789000-1704796200@tfc.tokyois.com
SUMMARY:TFC Team Leads Meeting (Current team leads only)
DESCRIPTION:Content is protected.
URL:https://tfc.tokyois.com/event/tfc-team-leads-meeting-6/
CATEGORIES:TFC
ORGANIZER;CN="TFC Lead coordinators":MAILTO:tfc_coordinator@tokyois.com
END:VEVENT
BEGIN:VEVENT
DTSTART;VALUE=DATE:20231218
DTEND;VALUE=DATE:20240106
DTSTAMP:20260421T134452
CREATED:20230618T030054Z
LAST-MODIFIED:20230816T112321Z
UID:3596-1702857600-1704499199@tfc.tokyois.com
SUMMARY:Winter Break
DESCRIPTION:
URL:https://tfc.tokyois.com/event/winter-break-2/
CATEGORIES:TIS
END:VEVENT
BEGIN:VEVENT
DTSTART;VALUE=DATE:20231215
DTEND;VALUE=DATE:20231216
DTSTAMP:20260421T134452
CREATED:20230618T030035Z
LAST-MODIFIED:20230816T114357Z
UID:3606-1702598400-1702684799@tfc.tokyois.com
SUMMARY:Last Day of School before Winter Break – Early dismissal (12:00pm)
DESCRIPTION:
URL:https://tfc.tokyois.com/event/last-day-of-school-early-dismissal-1200pm-3/
CATEGORIES:TIS
END:VEVENT
BEGIN:VEVENT
DTSTART;VALUE=DATE:20231214
DTEND;VALUE=DATE:20231215
DTSTAMP:20260421T134452
CREATED:20231128T030023Z
LAST-MODIFIED:20240126T165519Z
UID:4224-1702512000-1702598399@tfc.tokyois.com
SUMMARY:TIS Staff Holiday Treats
DESCRIPTION:We are excited to organize small bags filled with yummy holiday treats to express our gratitude to the amazing staff and teachers at TIS. To make this happen\, we’re kindly asking at least three families per class to contribute 10 treats each. \nPlease visit the website below for more details.
URL:https://tfc.tokyois.com/event/holiday-treats-to-teachers/
CATEGORIES:Staff Appreciation
ATTACH;FMTTYPE=image/png:https://tfc.tokyois.com/wp-content/uploads/2023/12/Holiday-treats-for-TIS-staff.png
ORGANIZER;CN="Staff Appreciation coordinator":MAILTO:tfc_coordinator@tokyois.com
END:VEVENT
BEGIN:VEVENT
DTSTART;TZID=Asia/Tokyo:20231208T002500
DTEND;TZID=Asia/Tokyo:20231208T133000
DTSTAMP:20260421T134452
CREATED:20230814T030014Z
LAST-MODIFIED:20240919T015533Z
UID:3825-1701995100-1702042200@tfc.tokyois.com
SUMMARY:December Pizza Day
DESCRIPTION:The volunteers list is published on the website below. \nIf you are interested in volunteering or have any questions\, please contact us! \nPlease click HERE to contact us.
URL:https://tfc.tokyois.com/event/december-pizza-day-2/
CATEGORIES:Fundraising
ATTACH;FMTTYPE=image/png:https://tfc.tokyois.com/wp-content/uploads/2023/09/2023-Dec-Pizza.png
ORGANIZER;CN="Fundraising coordinators":MAILTO:tfc_fundraising@tokyois.com
END:VEVENT
BEGIN:VEVENT
DTSTART;TZID=Asia/Tokyo:20231205T083000
DTEND;TZID=Asia/Tokyo:20231205T103000
DTSTAMP:20260421T134452
CREATED:20230814T030016Z
LAST-MODIFIED:20230904T155326Z
UID:3688-1701765000-1701772200@tfc.tokyois.com
SUMMARY:TFC Team Leads Meeting (Current team leads only)
DESCRIPTION:Content is protected.
URL:https://tfc.tokyois.com/event/tfc-team-leads-meeting-5/
CATEGORIES:TFC
ORGANIZER;CN="TFC Lead coordinators":MAILTO:tfc_coordinator@tokyois.com
END:VEVENT
BEGIN:VEVENT
DTSTART;VALUE=DATE:20231201
DTEND;VALUE=DATE:20231202
DTSTAMP:20260421T134452
CREATED:20230618T030044Z
LAST-MODIFIED:20230816T112309Z
UID:3588-1701388800-1701475199@tfc.tokyois.com
SUMMARY:Professional Development for Staff (No school for students)
DESCRIPTION:
URL:https://tfc.tokyois.com/event/professional-development-for-staff-no-school-for-students-6/
CATEGORIES:TIS
END:VEVENT
BEGIN:VEVENT
DTSTART;TZID=Asia/Tokyo:20231129T193000
DTEND;TZID=Asia/Tokyo:20231129T210000
DTSTAMP:20260421T134452
CREATED:20231122T021040Z
LAST-MODIFIED:20240210T073628Z
UID:4211-1701286200-1701291600@tfc.tokyois.com
SUMMARY:TIS & NIS Quiz Night
DESCRIPTION:TIS and Nishimachi International School will be joining forces to host a parent’s quiz night. There are 56 spots (28 for NiS and 28 for TIS). Teams will consist of 4 players.
URL:https://tfc.tokyois.com/event/tis-nis-quiz-night/
CATEGORIES:Community Events
ORGANIZER;CN="TFC Lead coordinators":MAILTO:tfc_coordinator@tokyois.com
END:VEVENT
BEGIN:VEVENT
DTSTART;TZID=Asia/Tokyo:20231128T083000
DTEND;TZID=Asia/Tokyo:20231128T143000
DTSTAMP:20260421T134452
CREATED:20231010T030000Z
LAST-MODIFIED:20231209T124102Z
UID:4117-1701160200-1701181800@tfc.tokyois.com
SUMMARY:Kawagoe Shrine Flea Market
DESCRIPTION:Join us on a day trip to the renowned Kawagoe Shrine Flea Market\, as we journey together aboard a TIS bus during school hours. This market stands as one of Tokyo’s largest\, boasting over 100 stalls brimming with an array of items\, including antiques\, pottery\, kimonos\, and obis. The flea market is a monthly spectacle\, typically held on the 28th of each month. \nPlease see the website below for more details.
URL:https://tfc.tokyois.com/event/kawagoe-flea-market-trip/
CATEGORIES:Community Events
ATTACH;FMTTYPE=image/png:https://tfc.tokyois.com/wp-content/uploads/2023/11/Kawagoe-Flea-Market.png
ORGANIZER;CN="TFC Lead coordinators":MAILTO:tfc_coordinator@tokyois.com
END:VEVENT
BEGIN:VEVENT
DTSTART;TZID=Asia/Tokyo:20231124T002500
DTEND;TZID=Asia/Tokyo:20231124T133000
DTSTAMP:20260421T134452
CREATED:20230814T030007Z
LAST-MODIFIED:20240919T015816Z
UID:3823-1700785500-1700832600@tfc.tokyois.com
SUMMARY:November Pizza Day
DESCRIPTION:The volunteers list is published on the website below. \nIf you are interested in volunteering or have any questions\, please contact us! \nPlease click HERE to contact us.
URL:https://tfc.tokyois.com/event/november-pizza-day-2/
CATEGORIES:Fundraising
ATTACH;FMTTYPE=image/png:https://tfc.tokyois.com/wp-content/uploads/2023/09/2023-Nov-Pizza.png
ORGANIZER;CN="Fundraising coordinators":MAILTO:tfc_fundraising@tokyois.com
END:VEVENT
BEGIN:VEVENT
DTSTART;TZID=Asia/Tokyo:20231118T093000
DTEND;TZID=Asia/Tokyo:20231118T110000
DTSTAMP:20260421T134452
CREATED:20231010T030013Z
LAST-MODIFIED:20240107T010810Z
UID:4084-1700299800-1700305200@tfc.tokyois.com
SUMMARY:2023 Run For The Cure Walk For Life (RFTC)
DESCRIPTION:We are thrilled to be teaming up with Japan’s leading breast cancer foundation\, Run For The Cure Walk For Life (RFTC) again this year\, for our annual Family and Friends Fun Run. \nAll funds raised will go directly to the charity. Last year\, we raised just shy of ¥300\,000 yen for this very important cause. The TFC matched our contributions making TIS’s donation ¥600\,000! Let’s see if we can reach the same goal this year or even more! \nPlease see the website below for more information.
URL:https://tfc.tokyois.com/event/2023-run-for-the-cure-walk-for-life-rftc/
CATEGORIES:Community Events
ATTACH;FMTTYPE=image/png:https://tfc.tokyois.com/wp-content/uploads/2024/01/2023-Fun-Run-For-The-Cure-Walk-For-Life-RFTC.png
ORGANIZER;CN="TFC Lead coordinators":MAILTO:tfc_coordinator@tokyois.com
END:VEVENT
BEGIN:VEVENT
DTSTART;TZID=Asia/Tokyo:20231116T083000
DTEND;TZID=Asia/Tokyo:20231116T100000
DTSTAMP:20260421T134452
CREATED:20230820T030005Z
LAST-MODIFIED:20230904T052525Z
UID:3611-1700123400-1700128800@tfc.tokyois.com
SUMMARY:Coffee/Chat Morning with Dan and Dave & TFC Updates
DESCRIPTION:This presents a wonderful opportunity for all TIS families to reconnect with our Heads of School\, Dan\, and our Whole School Principal\, Dave. It is designed as an informal discussion\, encouraging questions and feedback. \nWe also encourage you to stay for our TFC catch-up meeting!
URL:https://tfc.tokyois.com/event/coffee-chat-morning-with-dan-and-dave-tfc-updates-2/
CATEGORIES:TFC,TIS
ATTACH;FMTTYPE=image/png:https://tfc.tokyois.com/wp-content/uploads/2023/09/2023-Nov-Coffee-Morning-w_-D-D.png
END:VEVENT
BEGIN:VEVENT
DTSTART;VALUE=DATE:20231110
DTEND;VALUE=DATE:20231111
DTSTAMP:20260421T134452
CREATED:20230618T030023Z
LAST-MODIFIED:20230816T135322Z
UID:3646-1699574400-1699660799@tfc.tokyois.com
SUMMARY:PYP & MYP Conferences (No classes for students)
DESCRIPTION:
URL:https://tfc.tokyois.com/event/pyp-myp-conferences/
CATEGORIES:TIS
END:VEVENT
BEGIN:VEVENT
DTSTART;VALUE=DATE:20231109
DTEND;VALUE=DATE:20231110
DTSTAMP:20260421T134452
CREATED:20230618T030011Z
LAST-MODIFIED:20230816T132059Z
UID:3643-1699488000-1699574399@tfc.tokyois.com
SUMMARY:Early dismissal (12:00pm) for PYP & MYP Conferences
DESCRIPTION:
URL:https://tfc.tokyois.com/event/pyp-myp-conferences-early/
CATEGORIES:TIS
END:VEVENT
BEGIN:VEVENT
DTSTART;TZID=Asia/Tokyo:20231106T083000
DTEND;TZID=Asia/Tokyo:20231106T103000
DTSTAMP:20260421T134452
CREATED:20230814T030056Z
LAST-MODIFIED:20231007T125722Z
UID:3686-1699259400-1699266600@tfc.tokyois.com
SUMMARY:TFC Team Leads Meeting (Current team leads only)
DESCRIPTION:Content is protected.
URL:https://tfc.tokyois.com/event/tfc-team-leads-meeting-4/
CATEGORIES:TFC
ORGANIZER;CN="TFC Lead coordinators":MAILTO:tfc_coordinator@tokyois.com
END:VEVENT
BEGIN:VEVENT
DTSTART;TZID=Asia/Tokyo:20231031T112000
DTEND;TZID=Asia/Tokyo:20231031T140000
DTSTAMP:20260421T134452
CREATED:20230814T030034Z
LAST-MODIFIED:20240919T015749Z
UID:3814-1698751200-1698760800@tfc.tokyois.com
SUMMARY:Halloween Popcorn Day
DESCRIPTION:We will be offering popcorn during recess time directly after lunch. If your child wishes to purchase popcorn to support us\, please send them into school with ¥100. \nThe volunteers list is published on the website below. If you are interested in volunteering or have any questions\, please contact us! \nPlease click HERE to contact us.
URL:https://tfc.tokyois.com/event/halloween-popcorn-day-2/
CATEGORIES:Fundraising
ATTACH;FMTTYPE=image/png:https://tfc.tokyois.com/wp-content/uploads/2023/10/2023-Halloween-Popcorn.png
ORGANIZER;CN="Fundraising coordinators":MAILTO:tfc_fundraising@tokyois.com
END:VEVENT
BEGIN:VEVENT
DTSTART;TZID=Asia/Tokyo:20231027T170000
DTEND;TZID=Asia/Tokyo:20231027T190000
DTSTAMP:20260421T134452
CREATED:20231003T030059Z
LAST-MODIFIED:20231013T004559Z
UID:4082-1698426000-1698433200@tfc.tokyois.com
SUMMARY:Fall Fling
DESCRIPTION:Get ready for the much-anticipated annual Fall Fling\, an evening of autumnal revelry filled with food\, drinks\, crafts\, photo booth\, costume contest\, dancing\, and more! \nRSVP by Friday\, October 20\, and the payment due by Monday\, October 23. \nFor more details\, please see the website below.
URL:https://tfc.tokyois.com/event/2023-fall-fling/
CATEGORIES:Community Events
ATTACH;FMTTYPE=image/png:https://tfc.tokyois.com/wp-content/uploads/2023/10/2023-Fall-Fling.png
ORGANIZER;CN="Community Events coordinators":MAILTO:tfc_events@tokyois.com
END:VEVENT
BEGIN:VEVENT
DTSTART;VALUE=DATE:20231016
DTEND;VALUE=DATE:20231021
DTSTAMP:20260421T134452
CREATED:20230618T030009Z
LAST-MODIFIED:20230816T112258Z
UID:3594-1697414400-1697846399@tfc.tokyois.com
SUMMARY:Fall Break
DESCRIPTION:
URL:https://tfc.tokyois.com/event/fall-break-2/
CATEGORIES:TIS
END:VEVENT
BEGIN:VEVENT
DTSTART;VALUE=DATE:20231010
DTEND;VALUE=DATE:20231014
DTSTAMP:20260421T134452
CREATED:20230618T030036Z
LAST-MODIFIED:20230816T125814Z
UID:3641-1696896000-1697241599@tfc.tokyois.com
SUMMARY:G5 Residential Trip
DESCRIPTION:
URL:https://tfc.tokyois.com/event/g5-residential-trip/
CATEGORIES:TIS
END:VEVENT
BEGIN:VEVENT
DTSTART;VALUE=DATE:20231009
DTEND;VALUE=DATE:20231014
DTSTAMP:20260421T134452
CREATED:20230618T030014Z
LAST-MODIFIED:20230816T125543Z
UID:3639-1696809600-1697241599@tfc.tokyois.com
SUMMARY:G6 - G10 Residential Trips
DESCRIPTION:
URL:https://tfc.tokyois.com/event/g6-g10-residential-trips/
CATEGORIES:TIS
END:VEVENT
BEGIN:VEVENT
DTSTART;TZID=Asia/Tokyo:20231003T083000
DTEND;TZID=Asia/Tokyo:20231003T103000
DTSTAMP:20260421T134452
CREATED:20230814T030043Z
LAST-MODIFIED:20230904T155632Z
UID:3684-1696321800-1696329000@tfc.tokyois.com
SUMMARY:TFC Team Leads Meeting (Current team leads only)
DESCRIPTION:Content is protected.
URL:https://tfc.tokyois.com/event/tfc-team-leads-meeting-3/
CATEGORIES:TFC
ORGANIZER;CN="TFC Lead coordinators":MAILTO:tfc_coordinator@tokyois.com
END:VEVENT
BEGIN:VEVENT
DTSTART;TZID=Asia/Tokyo:20230929T121500
DTEND;TZID=Asia/Tokyo:20230929T134500
DTSTAMP:20260421T134452
CREATED:20230814T030045Z
LAST-MODIFIED:20240919T015719Z
UID:3709-1695989700-1695995100@tfc.tokyois.com
SUMMARY:September Popsicle Day
DESCRIPTION:We will be offering popsicles during recess time. If your child wishes to purchase a popsicle to support us\, please send them into school with ¥100. \nThe volunteers list is published on the website below. If you are interested in volunteering or have any questions\, please contact us! \nPlease click HERE to contact us.
URL:https://tfc.tokyois.com/event/september-popsicle-day-2/
CATEGORIES:Fundraising
ATTACH;FMTTYPE=image/png:https://tfc.tokyois.com/wp-content/uploads/2023/09/2023-Sep-Popsicle.png
ORGANIZER;CN="Fundraising coordinators":MAILTO:tfc_fundraising@tokyois.com
END:VEVENT
END:VCALENDAR