BEGIN:VCALENDAR
VERSION:2.0
PRODID:-//TIS FAMILY COMMUNITY - ECPv6.10.1.1//NONSGML v1.0//EN
CALSCALE:GREGORIAN
METHOD:PUBLISH
X-ORIGINAL-URL:https://tfc.tokyois.com
X-WR-CALDESC:Events for TIS FAMILY COMMUNITY
REFRESH-INTERVAL;VALUE=DURATION:PT1H
X-Robots-Tag:noindex
X-PUBLISHED-TTL:PT1H
BEGIN:VTIMEZONE
TZID:Asia/Tokyo
BEGIN:STANDARD
TZOFFSETFROM:+0900
TZOFFSETTO:+0900
TZNAME:JST
DTSTART:20250101T000000
END:STANDARD
END:VTIMEZONE
BEGIN:VEVENT
DTSTART;VALUE=DATE:20250425
DTEND;VALUE=DATE:20250426
DTSTAMP:20260426T010510
CREATED:20250318T142634Z
LAST-MODIFIED:20250318T142634Z
UID:5163-1745539200-1745625599@tfc.tokyois.com
SUMMARY:TFC Final Pizza Friday
DESCRIPTION:
URL:https://tfc.tokyois.com/event/tfc-final-pizza-friday/
CATEGORIES:Fundraising,TFC
END:VEVENT
BEGIN:VEVENT
DTSTART;TZID=Asia/Tokyo:20250425T190000
DTEND;TZID=Asia/Tokyo:20250425T210000
DTSTAMP:20260426T010510
CREATED:20250318T142708Z
LAST-MODIFIED:20250318T142708Z
UID:5165-1745607600-1745614800@tfc.tokyois.com
SUMMARY:Parent Night Out
DESCRIPTION:
URL:https://tfc.tokyois.com/event/parent-night-out/
CATEGORIES:Community Events,TFC
END:VEVENT
BEGIN:VEVENT
DTSTART;VALUE=DATE:20250502
DTEND;VALUE=DATE:20250503
DTSTAMP:20260426T010510
CREATED:20250505T011421Z
LAST-MODIFIED:20250505T011421Z
UID:5233-1746144000-1746230399@tfc.tokyois.com
SUMMARY:Kids-4-Kids Stuffie Day
DESCRIPTION:
URL:https://tfc.tokyois.com/event/kids-4-kids-stuffie-day/
CATEGORIES:TIS
END:VEVENT
BEGIN:VEVENT
DTSTART;VALUE=DATE:20250505
DTEND;VALUE=DATE:20250506
DTSTAMP:20260426T010510
CREATED:20250505T011459Z
LAST-MODIFIED:20250505T011459Z
UID:5235-1746403200-1746489599@tfc.tokyois.com
SUMMARY:Blue Day
DESCRIPTION:
URL:https://tfc.tokyois.com/event/blue-day/
CATEGORIES:TIS
END:VEVENT
BEGIN:VEVENT
DTSTART;VALUE=DATE:20250516
DTEND;VALUE=DATE:20250517
DTSTAMP:20260426T010510
CREATED:20250505T011527Z
LAST-MODIFIED:20250505T011527Z
UID:5237-1747353600-1747439999@tfc.tokyois.com
SUMMARY:KG Parent-Teacher Conferences
DESCRIPTION:
URL:https://tfc.tokyois.com/event/kg-parent-teacher-conferences/
CATEGORIES:TIS
END:VEVENT
BEGIN:VEVENT
DTSTART;VALUE=DATE:20250517
DTEND;VALUE=DATE:20250518
DTSTAMP:20260426T010510
CREATED:20250514T095431Z
LAST-MODIFIED:20250514T095431Z
UID:5278-1747440000-1747526399@tfc.tokyois.com
SUMMARY:International Day Fair
DESCRIPTION:
URL:https://tfc.tokyois.com/event/international-day-fair/
CATEGORIES:Spring Fair,TFC,TIS
END:VEVENT
BEGIN:VEVENT
DTSTART;VALUE=DATE:20250524
DTEND;VALUE=DATE:20250525
DTSTAMP:20260426T010510
CREATED:20250505T011554Z
LAST-MODIFIED:20250505T011554Z
UID:5239-1748044800-1748131199@tfc.tokyois.com
SUMMARY:MS Dance Festival
DESCRIPTION:
URL:https://tfc.tokyois.com/event/ms-dance-festival/
CATEGORIES:Community Events,TFC
END:VEVENT
BEGIN:VEVENT
DTSTART;VALUE=DATE:20250529
DTEND;VALUE=DATE:20250530
DTSTAMP:20260426T010510
CREATED:20250505T011619Z
LAST-MODIFIED:20250505T011619Z
UID:5241-1748476800-1748563199@tfc.tokyois.com
SUMMARY:Staff Appreciation Lunch
DESCRIPTION:
URL:https://tfc.tokyois.com/event/staff-appreciation-lunch/
CATEGORIES:Staff Appreciation,TFC
END:VEVENT
END:VCALENDAR