BEGIN:VCALENDAR
VERSION:2.0
PRODID:-//TIS FAMILY COMMUNITY - ECPv6.10.1.1//NONSGML v1.0//EN
CALSCALE:GREGORIAN
METHOD:PUBLISH
X-WR-CALNAME:TIS FAMILY COMMUNITY
X-ORIGINAL-URL:https://tfc.tokyois.com
X-WR-CALDESC:Events for TIS FAMILY COMMUNITY
REFRESH-INTERVAL;VALUE=DURATION:PT1H
X-Robots-Tag:noindex
X-PUBLISHED-TTL:PT1H
BEGIN:VTIMEZONE
TZID:Asia/Tokyo
BEGIN:STANDARD
TZOFFSETFROM:+0900
TZOFFSETTO:+0900
TZNAME:JST
DTSTART:20220101T000000
END:STANDARD
END:VTIMEZONE
BEGIN:VEVENT
DTSTART;VALUE=DATE:20230414
DTEND;VALUE=DATE:20230415
DTSTAMP:20260421T023438
CREATED:20220822T030011Z
LAST-MODIFIED:20230316T055412Z
UID:2293-1681430400-1681516799@tfc.tokyois.com
SUMMARY:PYP & MYP Student Led Conferences (No classes for students)
DESCRIPTION:
URL:https://tfc.tokyois.com/event/pyp-myp-student-led-conferences-no-classes-for-students/
CATEGORIES:TIS
END:VEVENT
BEGIN:VEVENT
DTSTART;TZID=Asia/Tokyo:20230413T115000
DTEND;TZID=Asia/Tokyo:20230413T131500
DTSTAMP:20260421T023438
CREATED:20220822T030009Z
LAST-MODIFIED:20230904T055530Z
UID:2312-1681386600-1681391700@tfc.tokyois.com
SUMMARY:April Pizza Day
DESCRIPTION:The volunteers list is published on the website below. If you are interested in volunteering or have any questions\, please contact us! \nPlease click HERE to contact us.
URL:https://tfc.tokyois.com/event/april-pizza-day/
CATEGORIES:Fundraising
ATTACH;FMTTYPE=image/png:https://tfc.tokyois.com/wp-content/uploads/2023/03/2023-Apr-Pizza.png
ORGANIZER;CN="Fundraising coordinators":MAILTO:tfc_fundraising@tokyois.com
END:VEVENT
BEGIN:VEVENT
DTSTART;VALUE=DATE:20230413
DTEND;VALUE=DATE:20230414
DTSTAMP:20260421T023438
CREATED:20230310T030020Z
LAST-MODIFIED:20230414T134807Z
UID:2193-1681344000-1681430399@tfc.tokyois.com
SUMMARY:The First Raffle Drawing
DESCRIPTION:We will draw winning numbers for most prizes on Thursday\, April 13 and Top 10 prizes on Saturday\, April 15. Please go to the website below for the winning numbers.
URL:https://tfc.tokyois.com/event/2023-raffle-drawing-part-1/
LOCATION:Online
CATEGORIES:Spring Fair
ATTACH;FMTTYPE=image/png:https://tfc.tokyois.com/wp-content/uploads/2023/03/2023-Cherry-Blossom-Fair-Raffle-Prize-Winning-Numbers-All-prizes-except-Top-10.png
ORGANIZER;CN="Spring Fair Team":MAILTO:cbf_team@tokyois.com
END:VEVENT
BEGIN:VEVENT
DTSTART;VALUE=DATE:20230412
DTEND;VALUE=DATE:20230413
DTSTAMP:20260421T023438
CREATED:20230310T030048Z
LAST-MODIFIED:20230428T110937Z
UID:2178-1681257600-1681343999@tfc.tokyois.com
SUMMARY:Raffle Ticket Sale Ends!
DESCRIPTION:Today is the last day to submit your filled out stubs and payment to the TFC Dropbox. \nIf you do not submit your stubs and payment\, you will not be eligible to win any prizes. \nThe raffle is one of the biggest fundraisers of the Cherry Blossom Fair (CBF) and we need your help to sell the tickets! This year we are fortunate to have many fantastic raffle prizes – thanks to the generous donations from TIS families\, local / global businesses and companies. \nAll proceeds from raffle ticket sales support our 3 charitable causes: Playground of Hope\, Just Peoples and TIS Grants. \nIf you would like to request more raffle tickets\, please click HERE. \nFor more information about the Raffle tickets\, please go to the website below.
URL:https://tfc.tokyois.com/event/2023-raffle-ticket-sale-ends/
LOCATION:Online
CATEGORIES:Spring Fair
ATTACH;FMTTYPE=image/png:https://tfc.tokyois.com/wp-content/uploads/2023/03/2023-Cherry-Blossom-Fair-Raffle-Ticket-Sale-Last-Day-w_-MCs-image.png
ORGANIZER;CN="Spring Fair Team":MAILTO:cbf_team@tokyois.com
END:VEVENT
BEGIN:VEVENT
DTSTART;VALUE=DATE:20230407
DTEND;VALUE=DATE:20230408
DTSTAMP:20260421T023438
CREATED:20230310T030058Z
LAST-MODIFIED:20230428T111737Z
UID:2181-1680825600-1680911999@tfc.tokyois.com
SUMMARY:Token & Wristband Pre-Sale Ends!
DESCRIPTION:Today is the last day to pre-order the tokens and wristbands. Please make sure to submit your Pre-Order form and drop off your payment at the TFC Dropbox behind the library. \nAs a family member at TIS\, you have the opportunity to pre-purchase the tokens and wristbands\, which are the “currency” of the Fair\, so you can head straight to food booths\, games\, and arts and crafts on the day while the general public will have to queue to purchase them at the door. Don’t miss out on this VIP access! \nIf you would like to pre-order the tokens and wristbands\, please click HERE. \nFor more information\, please go to the website below.
URL:https://tfc.tokyois.com/event/2023-tokens-wristbands-sale-ends/
LOCATION:Online
CATEGORIES:Spring Fair
ATTACH;FMTTYPE=image/png:https://tfc.tokyois.com/wp-content/uploads/2023/04/2023-Cherry-Blossom-Fair-Token-Wristband-Pre-Sale-Last-Day-w_-MCs-image.png
ORGANIZER;CN="Spring Fair Team":MAILTO:cbf_team@tokyois.com
END:VEVENT
BEGIN:VEVENT
DTSTART;VALUE=DATE:20230403
DTEND;VALUE=DATE:20230414
DTSTAMP:20260421T023438
CREATED:20230402T150040Z
LAST-MODIFIED:20230410T063852Z
UID:2969-1680480000-1681430399@tfc.tokyois.com
SUMMARY:Used Book Donations drop off
DESCRIPTION:Donate your new or gently used books to our Used Book Sale at 2023 TIS Cherry Blossom Fair! \n\nWe are looking for:\n\n 	Travel books\n\n 	Kids fiction\n\n 	Adult fiction\n\n 	Kids non-fiction\n\n 	Adults non-fiction\n\n 	Board books\n\n 	Picture books\n\n 	Activity books\n\n 	Language learning books\n 	Non-English kids books\n 	Non-English adults books
URL:https://tfc.tokyois.com/event/used-book-donations-drop-off/
LOCATION:TIS – 1F Reception
CATEGORIES:Spring Fair
ATTACH;FMTTYPE=image/png:https://tfc.tokyois.com/wp-content/uploads/2023/03/Used-Book-Sale.png
ORGANIZER;CN="Spring Fair Team":MAILTO:cbf_team@tokyois.com
END:VEVENT
BEGIN:VEVENT
DTSTART;VALUE=DATE:20230327
DTEND;VALUE=DATE:20230401
DTSTAMP:20260421T023438
CREATED:20220822T030025Z
LAST-MODIFIED:20230313T124334Z
UID:2204-1679875200-1680307199@tfc.tokyois.com
SUMMARY:Spring Break
DESCRIPTION:
URL:https://tfc.tokyois.com/event/spring-break/
CATEGORIES:TIS
END:VEVENT
BEGIN:VEVENT
DTSTART;TZID=Asia/Tokyo:20230324T080000
DTEND;TZID=Asia/Tokyo:20230324T100000
DTSTAMP:20260421T023438
CREATED:20230224T030003Z
LAST-MODIFIED:20230313T015940Z
UID:2170-1679644800-1679652000@tfc.tokyois.com
SUMMARY:Bargain Bazaar – Donations drop off
DESCRIPTION:Donate your new or gently used items to the Bargain Bazaar at 2023 TIS Cherry Blossom Fair! \n\n***Please note that unwanted items and items in poor condition will be returned.*** \n\nWe are looking for:\n\n\n 	Toys\n\n 	Legos\n\n 	Games\n\n 	Halloween costumes\n\n 	Dress up costumes\n\n 	Children’s clothing\n\n 	Children’s coats\n\n 	Purses/bags\n\n 	Ski clothing and gear\n\n\nWe CANNOT accept:\n\n\n 	Adult clothing\n\n 	Baby clothing\n\n 	TIS uniforms\n\n 	Underwear/socks/PJs\n\n 	Swimwear\n\n 	Shoes\n\n 	Stuffed animals\n\n 	Household items\n\n 	Electronics\n\n\n\nPlease place your items in a bag with your child’s name clearly labeled.
URL:https://tfc.tokyois.com/event/bargain-bazaar-donations-drop-off-4/
LOCATION:TIS – 1F Reception
CATEGORIES:Spring Fair
ATTACH;FMTTYPE=image/png:https://tfc.tokyois.com/wp-content/uploads/2023/02/Bargain-Bazaar.png
ORGANIZER;CN="Spring Fair Team":MAILTO:cbf_team@tokyois.com
END:VEVENT
BEGIN:VEVENT
DTSTART;TZID=Asia/Tokyo:20230323T115000
DTEND;TZID=Asia/Tokyo:20230323T134000
DTSTAMP:20260421T023438
CREATED:20220822T030008Z
LAST-MODIFIED:20230316T064625Z
UID:2190-1679572200-1679578800@tfc.tokyois.com
SUMMARY:March Pizza Day
DESCRIPTION:If you haven’t ordered pizza for our upcoming Pizza Day\, please submit the order form and drop off your payment at the TFC Dropbox by March 8\, 2023. \nPlease click HERE for the order form. \nThe volunteers list is published on the website below. If you are interested in volunteering or have any questions\, please contact us! \nPlease click HERE to contact us.
URL:https://tfc.tokyois.com/event/2023-march-pizza/
CATEGORIES:Fundraising
ATTACH;FMTTYPE=image/png:https://tfc.tokyois.com/wp-content/uploads/2023/03/2023-Mar-Pizza.png
ORGANIZER;CN="Fundraising coordinators":MAILTO:tfc_fundraising@tokyois.com
END:VEVENT
BEGIN:VEVENT
DTSTART;TZID=Asia/Tokyo:20230322T090000
DTEND;TZID=Asia/Tokyo:20230322T140000
DTSTAMP:20260421T023438
CREATED:20230315T030017Z
LAST-MODIFIED:20230415T223221Z
UID:2275-1679475600-1679493600@tfc.tokyois.com
SUMMARY:Cherry Blossom at Meguro River
DESCRIPTION:We hope you’ve been enjoying this gorgeous spring weather for the past few days! All this warm weather has changed the cherry blossom predictions. It now looks like our Explorers date of March 22 will be about as PERFECT as it gets for cherry blossom viewing! They are now due to start opening around March 15\, with full bloom around March 24. \nMeguro River offers some of the best views of cherry blossoms in Tokyo. Cherry trees lined along the river cast their reflection in the water\, which is absolutely divine! Let’s not forget about all the fun “Yatai” street food stalls serving everything from strawberries and champagne\, to castella cake and yakitori.
URL:https://tfc.tokyois.com/event/cherry-blossom-at-meguro-river/
LOCATION:Please join our WhatsApp group for the exact location
CATEGORIES:Explorers
ATTACH;FMTTYPE=image/png:https://tfc.tokyois.com/wp-content/uploads/2023/03/Cherry-Blossom-at-Meguro-River-2.png
ORGANIZER;CN="Community Events coordinators":MAILTO:tfc_events@tokyois.com
END:VEVENT
BEGIN:VEVENT
DTSTART;TZID=Asia/Tokyo:20230321T083000
DTEND;TZID=Asia/Tokyo:20230321T100000
DTSTAMP:20260421T023438
CREATED:20220822T030036Z
LAST-MODIFIED:20230816T120930Z
UID:2255-1679387400-1679392800@tfc.tokyois.com
SUMMARY:Coffee/Chat Morning with Dan and Dave
DESCRIPTION:This presents a wonderful opportunity for all TIS families to reconnect with our Heads of School\, Dan\, and our Whole School Principal\, Dave. It is designed as an informal discussion\, encouraging questions and feedback. \nWe also encourage you to stay for our TFC catch-up meeting!
URL:https://tfc.tokyois.com/event/coffee-chat-morning-with-dan-and-dave/
LOCATION:TIS – 1F Learning Lab
CATEGORIES:TIS
ATTACH;FMTTYPE=image/png:https://tfc.tokyois.com/wp-content/uploads/2023/03/Coffee_Chat-with-Dan-March.png
END:VEVENT
BEGIN:VEVENT
DTSTART;TZID=Asia/Tokyo:20230317T080000
DTEND;TZID=Asia/Tokyo:20230317T100000
DTSTAMP:20260421T023438
CREATED:20230224T030014Z
LAST-MODIFIED:20230313T015751Z
UID:2168-1679040000-1679047200@tfc.tokyois.com
SUMMARY:Bargain Bazaar – Donations drop off
DESCRIPTION:Donate your new or gently used items to the Bargain Bazaar at 2023 TIS Cherry Blossom Fair! \n\n***Please note that unwanted items and items in poor condition will be returned.*** \n\nWe are looking for:\n\n\n 	Toys\n\n 	Legos\n\n 	Games\n\n 	Halloween costumes\n\n 	Dress up costumes\n\n 	Children’s clothing\n\n 	Children’s coats\n\n 	Purses/bags\n\n 	Ski clothing and gear\n\n\nWe CANNOT accept:\n\n\n 	Adult clothing\n\n 	Baby clothing\n\n 	TIS uniforms\n\n 	Underwear/socks/PJs\n\n 	Swimwear\n\n 	Shoes\n\n 	Stuffed animals\n\n 	Household items\n\n 	Electronics\n\n\n\nPlease place your items in a bag with your child’s name clearly labeled.
URL:https://tfc.tokyois.com/event/bargain-bazaar-donations-drop-off-3/
LOCATION:TIS – 1F Reception
CATEGORIES:Spring Fair
ATTACH;FMTTYPE=image/png:https://tfc.tokyois.com/wp-content/uploads/2023/02/Bargain-Bazaar.png
ORGANIZER;CN="Spring Fair Team":MAILTO:cbf_team@tokyois.com
END:VEVENT
BEGIN:VEVENT
DTSTART;TZID=Asia/Tokyo:20230310T080000
DTEND;TZID=Asia/Tokyo:20230310T100000
DTSTAMP:20260421T023438
CREATED:20230224T030034Z
LAST-MODIFIED:20230313T015534Z
UID:2165-1678435200-1678442400@tfc.tokyois.com
SUMMARY:Bargain Bazaar – Donations drop off
DESCRIPTION:Donate your new or gently used items to the Bargain Bazaar at 2023 TIS Cherry Blossom Fair! \n\n\n\n***Please note that unwanted items and items in poor condition will be returned.*** \n\nWe are looking for:\n\n\n\n\nToys\n\n\n\nLegos\n\n\n\nGames\n\n\n\nHalloween costumes\n\n\n\nDress up costumes\n\n\n\nChildren’s clothing\n\n\n\nChildren’s coats\n\n\n\nPurses/bags\n\n\n\nSki clothing and gear\n\n\n\n\nWe CANNOT accept:\n\n\n\n\nAdult clothing\n\n\n\nBaby clothing\n\n\n\nTIS uniforms\n\n\n\nUnderwear/socks/PJs\n\n\n\nSwimwear\n\n\n\nShoes\n\n\n\nStuffed animals\n\n\n\nHousehold items\n\n\n\nElectronics\n\n\nPlease place your items in a bag with your child’s name clearly labeled.
URL:https://tfc.tokyois.com/event/bargain-bazaar-donations-drop-off-2/
LOCATION:TIS – 1F Reception
CATEGORIES:Spring Fair
ATTACH;FMTTYPE=image/png:https://tfc.tokyois.com/wp-content/uploads/2023/02/Bargain-Bazaar.png
ORGANIZER;CN="Spring Fair Team":MAILTO:cbf_team@tokyois.com
END:VEVENT
BEGIN:VEVENT
DTSTART;VALUE=DATE:20230310
DTEND;VALUE=DATE:20230311
DTSTAMP:20260421T023438
CREATED:20230310T030010Z
LAST-MODIFIED:20230428T112131Z
UID:2172-1678406400-1678492799@tfc.tokyois.com
SUMMARY:Token & Wristband Pre-Sale Starts!
DESCRIPTION:Want to make the most of Cherry Blossom Fair (CBF)? As a family member at TIS\, you have the opportunity to pre-purchase the tokens and wristbands\, which are the “currency” of the Fair\, so you can head straight to food booths\, games\, and arts and crafts on the day while the general public will have to queue to purchase them at the door. \nIf you would like to pre-order the tokens and wristbands\, please click HERE. \nFor more information\, please go to the website below.
URL:https://tfc.tokyois.com/event/2023-tokens-wristbands-sale-starts/
LOCATION:Online
CATEGORIES:Spring Fair
ATTACH;FMTTYPE=image/png:https://tfc.tokyois.com/wp-content/uploads/2023/04/2023-Cherry-Blossom-Fair-Token-Wristband-Info-w_-MCs-image.png
ORGANIZER;CN="Spring Fair Team":MAILTO:cbf_team@tokyois.com
END:VEVENT
BEGIN:VEVENT
DTSTART;VALUE=DATE:20230310
DTEND;VALUE=DATE:20230311
DTSTAMP:20260421T023438
CREATED:20230309T030030Z
LAST-MODIFIED:20230428T112223Z
UID:2176-1678406400-1678492799@tfc.tokyois.com
SUMMARY:Raffle Ticket Sale Starts!
DESCRIPTION:The raffle is one of the biggest fundraisers of the Cherry Blossom Fair (CBF) and we need your help to sell the tickets! This year we are fortunate to have many fantastic raffle prizes – thanks to the generous donations from TIS families\, local / global businesses and companies. \nAll proceeds from raffle ticket sales support our 3 charitable causes: Playground of Hope\, Just Peoples and TIS Grants. \nFor more information about the Raffle tickets\, please go to the website below. \nIf you would like to request more raffle tickets\, please click HERE.
URL:https://tfc.tokyois.com/event/2023-raffle-ticket-sale-starts/
CATEGORIES:Spring Fair
ATTACH;FMTTYPE=image/png:https://tfc.tokyois.com/wp-content/uploads/2023/03/2023-Cherry-Blossom-Fair-Raffle-Ticket-Info-w_-MCs-image.png
ORGANIZER;CN="Spring Fair Team":MAILTO:cbf_team@tokyois.com
END:VEVENT
BEGIN:VEVENT
DTSTART;TZID=Asia/Tokyo:20230303T080000
DTEND;TZID=Asia/Tokyo:20230303T100000
DTSTAMP:20260421T023438
CREATED:20230224T030010Z
LAST-MODIFIED:20230313T015555Z
UID:2156-1677830400-1677837600@tfc.tokyois.com
SUMMARY:Bargain Bazaar – Donations drop off
DESCRIPTION:Donate your new or gently used items to the Bargain Bazaar at 2023 TIS Cherry Blossom Fair! \n\n\n\n***Please note that unwanted items and items in poor condition will be returned.*** \n\nWe are looking for:\n\n\n\n\nToys\n\n\n\nLegos\n\n\n\nGames\n\n\n\nHalloween costumes\n\n\n\nDress up costumes\n\n\n\nChildren’s clothing\n\n\n\nChildren’s coats\n\n\n\nPurses/bags\n\n\n\nSki clothing and gear\n\n\n\n\nWe CANNOT accept:\n\n\n\n\nAdult clothing\n\n\n\nBaby clothing\n\n\n\nTIS uniforms\n\n\n\nUnderwear/socks/PJs\n\n\n\nSwimwear\n\n\n\nShoes\n\n\n\nStuffed animals\n\n\n\nHousehold items\n\n\n\nElectronics\n\n\nPlease place your items in a bag with your child’s name clearly labeled.
URL:https://tfc.tokyois.com/event/bargain-bazaar-donations-drop-off/
LOCATION:TIS – 1F Reception
CATEGORIES:Spring Fair
ATTACH;FMTTYPE=image/png:https://tfc.tokyois.com/wp-content/uploads/2023/02/Bargain-Bazaar.png
ORGANIZER;CN="Spring Fair Team":MAILTO:cbf_team@tokyois.com
END:VEVENT
BEGIN:VEVENT
DTSTART;TZID=Asia/Tokyo:20230301T090000
DTEND;TZID=Asia/Tokyo:20230301T103000
DTSTAMP:20260421T023438
CREATED:20230222T030046Z
LAST-MODIFIED:20230428T115541Z
UID:3310-1677661200-1677666600@tfc.tokyois.com
SUMMARY:Compassionate Systems
DESCRIPTION:The focus of this will be the Compassionate Systems Framework and you can read more about this here. This will be a practical workshop – you’ll be using the tools and seeing how they support your own lives as well as those of your children. \nThe physical space is important for this workshop so please indicate your attendance HERE.
URL:https://tfc.tokyois.com/event/compassionate-systems/
LOCATION:TIS – 1F Learning Lab
CATEGORIES:Parent Workshops
ATTACH;FMTTYPE=image/png:https://tfc.tokyois.com/wp-content/uploads/2023/02/Compassionate-Systems.png
ORGANIZER;CN="Parent Workshops coordinator":MAILTO:tfc_workshops@tokyois.com
END:VEVENT
BEGIN:VEVENT
DTSTART;VALUE=DATE:20230223
DTEND;VALUE=DATE:20230225
DTSTAMP:20260421T023438
CREATED:20220822T030006Z
LAST-MODIFIED:20230316T145906Z
UID:2353-1677110400-1677283199@tfc.tokyois.com
SUMMARY:Professional Development for Staff (No school for students)
DESCRIPTION:
URL:https://tfc.tokyois.com/event/professional-development-for-staff-no-school-for-students-4/
CATEGORIES:TIS
END:VEVENT
BEGIN:VEVENT
DTSTART;VALUE=DATE:20230220
DTEND;VALUE=DATE:20230223
DTSTAMP:20260421T023438
CREATED:20220822T030047Z
LAST-MODIFIED:20230316T150529Z
UID:2357-1676851200-1677110399@tfc.tokyois.com
SUMMARY:Mid Winter Break
DESCRIPTION:
URL:https://tfc.tokyois.com/event/mid-winter-break/
CATEGORIES:TIS
END:VEVENT
BEGIN:VEVENT
DTSTART;TZID=Asia/Tokyo:20230214T083000
DTEND;TZID=Asia/Tokyo:20230214T103000
DTSTAMP:20260421T023438
CREATED:20220822T030029Z
LAST-MODIFIED:20230428T112435Z
UID:2385-1676363400-1676370600@tfc.tokyois.com
SUMMARY:Valentine's Day Bake Sale
DESCRIPTION:
URL:https://tfc.tokyois.com/event/valentines-day-bake-sale/
CATEGORIES:Fundraising
ATTACH;FMTTYPE=image/png:https://tfc.tokyois.com/wp-content/uploads/2023/03/2023-Valentines-Day-Bake-Sale.png
ORGANIZER;CN="Fundraising coordinators":MAILTO:tfc_fundraising@tokyois.com
END:VEVENT
BEGIN:VEVENT
DTSTART;TZID=Asia/Tokyo:20230213T090000
DTEND;TZID=Asia/Tokyo:20230213T103000
DTSTAMP:20260421T023438
CREATED:20230206T030018Z
LAST-MODIFIED:20230428T120302Z
UID:3313-1676278800-1676284200@tfc.tokyois.com
SUMMARY:Earthquake Preparedness
DESCRIPTION:This is an information session including 7 steps to empower yourself: \n\nKnow how to react to earthquakes\nAcquire earthquake literacy\nCollect information\nGet connected with your loved ones\nUnderstand hazards and evacuation shelters/areas in your neighborhood\nSecure your home\nPrepare your emergency kit\n\nPlease feel free to stay for a disaster-related Japanese language lesson and exercise for an additional 30 minutes.
URL:https://tfc.tokyois.com/event/earthquake-preparedness/
LOCATION:TIS – 2F Multi Purpose Room
CATEGORIES:Parent Workshops
ATTACH;FMTTYPE=image/png:https://tfc.tokyois.com/wp-content/uploads/2023/02/Earthquake-Preparedness.png
ORGANIZER;CN="Parent Workshops coordinator":MAILTO:tfc_workshops@tokyois.com
END:VEVENT
BEGIN:VEVENT
DTSTART;VALUE=DATE:20230210
DTEND;VALUE=DATE:20230211
DTSTAMP:20260421T023438
CREATED:20220822T030037Z
LAST-MODIFIED:20230316T163406Z
UID:2387-1675987200-1676073599@tfc.tokyois.com
SUMMARY:PYP Parent Teacher Student Conferences
DESCRIPTION:
URL:https://tfc.tokyois.com/event/pyp-parent-teacher-student-conferences/
CATEGORIES:TIS
END:VEVENT
BEGIN:VEVENT
DTSTART;TZID=Asia/Tokyo:20230209T100000
DTEND;TZID=Asia/Tokyo:20230209T120000
DTSTAMP:20260421T023438
CREATED:20230202T030022Z
LAST-MODIFIED:20230428T121013Z
UID:3316-1675936800-1675944000@tfc.tokyois.com
SUMMARY:Cooking for Your Element
DESCRIPTION:Humans are different\, and according to Asian food wisdom different personalities thrive on different foods. During this workshop\, you will learn what your energetic element (wood\, fire\, earth\, metal\, water) is\, your strengths and areas for improvement\, and what type of food you should eat to feel best!
URL:https://tfc.tokyois.com/event/cooking-for-your-element/
LOCATION:Nishi Azabu Community Center
CATEGORIES:Parent Workshops
ATTACH;FMTTYPE=image/png:https://tfc.tokyois.com/wp-content/uploads/2023/02/Cooking-for-Your-Element.png
ORGANIZER;CN="Parent Workshops coordinator":MAILTO:tfc_workshops@tokyois.com
END:VEVENT
BEGIN:VEVENT
DTSTART;TZID=Asia/Tokyo:20230131T120000
DTEND;TZID=Asia/Tokyo:20230131T130000
DTSTAMP:20260421T023438
CREATED:20230124T030031Z
LAST-MODIFIED:20230428T121958Z
UID:3318-1675166400-1675170000@tfc.tokyois.com
SUMMARY:Neurodiversity
DESCRIPTION:A presentation for parents by leading expert\, Denisse Moreno\, from 1st Step on the topic of Neurodiversity. Denisse is a Mexican clinical psychologist who specializes in developmental and mood disorders\, such as Autism\, ADHD\, Anxiety and Depression.
URL:https://tfc.tokyois.com/event/neurodiversity/
LOCATION:TIS – 1F Learning Lab
CATEGORIES:Parent Workshops
ATTACH;FMTTYPE=image/png:https://tfc.tokyois.com/wp-content/uploads/2023/01/Neurodiversity.png
ORGANIZER;CN="Parent Workshops coordinator":MAILTO:tfc_workshops@tokyois.com
END:VEVENT
BEGIN:VEVENT
DTSTART;TZID=Asia/Tokyo:20230131T083000
DTEND;TZID=Asia/Tokyo:20230131T100000
DTSTAMP:20260421T023438
CREATED:20220822T030002Z
LAST-MODIFIED:20230816T120827Z
UID:2383-1675153800-1675159200@tfc.tokyois.com
SUMMARY:Coffee/Chat Morning with Dan and Dave
DESCRIPTION:This presents a wonderful opportunity for all TIS families to reconnect with our Heads of School\, Dan\, and our Whole School Principal\, Dave. It is designed as an informal discussion\, encouraging questions and feedback. \nWe also encourage you to stay for our TFC catch-up meeting!
URL:https://tfc.tokyois.com/event/coffee-chat-morning-with-dan-and-dave-4/
LOCATION:TIS – 1F Learning Lab
CATEGORIES:TIS
ATTACH;FMTTYPE=image/png:https://tfc.tokyois.com/wp-content/uploads/2023/03/Coffee_Chat-with-Dan-January.png
END:VEVENT
BEGIN:VEVENT
DTSTART;TZID=Asia/Tokyo:20230126T115000
DTEND;TZID=Asia/Tokyo:20230126T134000
DTSTAMP:20260421T023438
CREATED:20220822T030020Z
LAST-MODIFIED:20230316T162440Z
UID:2314-1674733800-1674740400@tfc.tokyois.com
SUMMARY:January Pizza Day
DESCRIPTION:The volunteers list is published on the website below. If you are interested in volunteering or have any questions\, please contact us! \nPlease click HERE to contact us.
URL:https://tfc.tokyois.com/event/january-pizza-day/
CATEGORIES:Fundraising
ATTACH;FMTTYPE=image/png:https://tfc.tokyois.com/wp-content/uploads/2023/03/2023-Jan-Pizza.png
ORGANIZER;CN="Fundraising coordinators":MAILTO:tfc_fundraising@tokyois.com
END:VEVENT
BEGIN:VEVENT
DTSTART;VALUE=DATE:20221219
DTEND;VALUE=DATE:20230107
DTSTAMP:20260421T023438
CREATED:20220822T030038Z
LAST-MODIFIED:20230316T150333Z
UID:2355-1671408000-1673049599@tfc.tokyois.com
SUMMARY:Winter Break
DESCRIPTION:
URL:https://tfc.tokyois.com/event/winter-break/
CATEGORIES:TIS
END:VEVENT
BEGIN:VEVENT
DTSTART;VALUE=DATE:20221216
DTEND;VALUE=DATE:20221217
DTSTAMP:20260421T023438
CREATED:20220822T030029Z
LAST-MODIFIED:20230316T160014Z
UID:2379-1671148800-1671235199@tfc.tokyois.com
SUMMARY:Last Day of School before Winter Break – Early dismissal (12:00pm)
DESCRIPTION:
URL:https://tfc.tokyois.com/event/last-day-of-school-before-winter-break-early-dismissal-1200pm/
CATEGORIES:TIS
END:VEVENT
BEGIN:VEVENT
DTSTART;TZID=Asia/Tokyo:20221215T115000
DTEND;TZID=Asia/Tokyo:20221215T134000
DTSTAMP:20260421T023438
CREATED:20220822T030025Z
LAST-MODIFIED:20230316T162212Z
UID:2316-1671105000-1671111600@tfc.tokyois.com
SUMMARY:December Pizza Day
DESCRIPTION:The volunteers list is published on the website below. If you are interested in volunteering or have any questions\, please contact us! \nPlease click HERE to contact us.
URL:https://tfc.tokyois.com/event/december-pizza-day/
CATEGORIES:Fundraising
ATTACH;FMTTYPE=image/png:https://tfc.tokyois.com/wp-content/uploads/2023/03/2022-Dec-Pizza.png
ORGANIZER;CN="Fundraising coordinators":MAILTO:tfc_fundraising@tokyois.com
END:VEVENT
BEGIN:VEVENT
DTSTART;TZID=Asia/Tokyo:20221208T100000
DTEND;TZID=Asia/Tokyo:20221208T130000
DTSTAMP:20260421T023438
CREATED:20221201T030055Z
LAST-MODIFIED:20230428T135621Z
UID:3320-1670493600-1670504400@tfc.tokyois.com
SUMMARY:Japanese New Year Cooking Class
DESCRIPTION:Osechi is the traditional Japanese food enjoyed on New Year’s Day. An assortment of colorful dishes packed together in special boxes. Each dish has a special meaning in welcoming the New Year. \nSign up for a class and learn more about it. We are making an easier\, plant-based and healthier version! Impress your family and friends with new skills\, stay in shape\, and have fun while making the delicious food.
URL:https://tfc.tokyois.com/event/japanese-new-year-cooking-class/
LOCATION:Nishi Azabu Community Center
CATEGORIES:Parent Workshops
ATTACH;FMTTYPE=image/png:https://tfc.tokyois.com/wp-content/uploads/2022/12/Japanese-New-Year-Cooking.png
ORGANIZER;CN="Parent Workshops coordinator":MAILTO:tfc_workshops@tokyois.com
END:VEVENT
END:VCALENDAR