BEGIN:VCALENDAR
VERSION:2.0
PRODID:-//TIS FAMILY COMMUNITY - ECPv6.10.1.1//NONSGML v1.0//EN
CALSCALE:GREGORIAN
METHOD:PUBLISH
X-ORIGINAL-URL:https://tfc.tokyois.com
X-WR-CALDESC:Events for TIS FAMILY COMMUNITY
REFRESH-INTERVAL;VALUE=DURATION:PT1H
X-Robots-Tag:noindex
X-PUBLISHED-TTL:PT1H
BEGIN:VTIMEZONE
TZID:Asia/Tokyo
BEGIN:STANDARD
TZOFFSETFROM:+0900
TZOFFSETTO:+0900
TZNAME:JST
DTSTART:20240101T000000
END:STANDARD
END:VTIMEZONE
BEGIN:VEVENT
DTSTART;TZID=Asia/Tokyo:20240319T090000
DTEND;TZID=Asia/Tokyo:20240319T110000
DTSTAMP:20260424T193633
CREATED:20240130T030015Z
LAST-MODIFIED:20240130T051716Z
UID:4521-1710838800-1710846000@tfc.tokyois.com
SUMMARY:Modern Calligraphy Workshop
DESCRIPTION:Modern calligraphy\, in contrast to traditional forms\, embraces a less rule-based approach\, offering you unparalleled creative freedom. \nPlease see the website below for more information.
URL:https://tfc.tokyois.com/event/modern-calligraphy-workshop/
CATEGORIES:Parent Clubs
ATTACH;FMTTYPE=image/png:https://tfc.tokyois.com/wp-content/uploads/2024/01/Calligraphy.png
END:VEVENT
END:VCALENDAR