BEGIN:VCALENDAR
VERSION:2.0
PRODID:-//TIS FAMILY COMMUNITY - ECPv6.10.1.1//NONSGML v1.0//EN
CALSCALE:GREGORIAN
METHOD:PUBLISH
X-WR-CALNAME:TIS FAMILY COMMUNITY
X-ORIGINAL-URL:https://tfc.tokyois.com
X-WR-CALDESC:Events for TIS FAMILY COMMUNITY
REFRESH-INTERVAL;VALUE=DURATION:PT1H
X-Robots-Tag:noindex
X-PUBLISHED-TTL:PT1H
BEGIN:VTIMEZONE
TZID:Asia/Tokyo
BEGIN:STANDARD
TZOFFSETFROM:+0900
TZOFFSETTO:+0900
TZNAME:JST
DTSTART:20240101T000000
END:STANDARD
END:VTIMEZONE
BEGIN:VEVENT
DTSTART;TZID=Asia/Tokyo:20240306T093000
DTEND;TZID=Asia/Tokyo:20240306T113000
DTSTAMP:20260422T192125
CREATED:20240130T030026Z
LAST-MODIFIED:20240130T045710Z
UID:4516-1709717400-1709724600@tfc.tokyois.com
SUMMARY:Cherry Blossom Deco Sushi Workshop
DESCRIPTION:This traditional Japanese sushi roll transforms into a picturesque image when sliced\, making it not only a delightful culinary experience but also Instagram-worthy. \nPlease see the website below for more information.
URL:https://tfc.tokyois.com/event/cherry-blossom-deco-sushi-workshop/
CATEGORIES:Parent Clubs
ATTACH;FMTTYPE=image/png:https://tfc.tokyois.com/wp-content/uploads/2024/01/Sakura-Deco-Sushi.png
END:VEVENT
END:VCALENDAR