BEGIN:VCALENDAR
VERSION:2.0
PRODID:-//TIS FAMILY COMMUNITY - ECPv6.10.1.1//NONSGML v1.0//EN
CALSCALE:GREGORIAN
METHOD:PUBLISH
X-ORIGINAL-URL:https://tfc.tokyois.com
X-WR-CALDESC:Events for TIS FAMILY COMMUNITY
REFRESH-INTERVAL;VALUE=DURATION:PT1H
X-Robots-Tag:noindex
X-PUBLISHED-TTL:PT1H
BEGIN:VTIMEZONE
TZID:Asia/Tokyo
BEGIN:STANDARD
TZOFFSETFROM:+0900
TZOFFSETTO:+0900
TZNAME:JST
DTSTART:20250101T000000
END:STANDARD
END:VTIMEZONE
BEGIN:VEVENT
DTSTART;TZID=Asia/Tokyo:20250418T083000
DTEND;TZID=Asia/Tokyo:20250418T093000
DTSTAMP:20260425T100702
CREATED:20250403T143559Z
LAST-MODIFIED:20250403T143559Z
UID:5184-1744965000-1744968600@tfc.tokyois.com
SUMMARY:Parent Safeguarding Workshop
DESCRIPTION:
URL:https://tfc.tokyois.com/event/parent-safeguarding-workshop-2/
CATEGORIES:TIS
END:VEVENT
BEGIN:VEVENT
DTSTART;TZID=Asia/Tokyo:20250418T163000
DTEND;TZID=Asia/Tokyo:20250418T193000
DTSTAMP:20260425T100702
CREATED:20250403T154926Z
LAST-MODIFIED:20250403T154934Z
UID:5188-1744993800-1745004600@tfc.tokyois.com
SUMMARY:G4 and G5 Movie Night
DESCRIPTION:
URL:https://tfc.tokyois.com/event/g4-and-g5-movie-night-save-the-date/
CATEGORIES:TFC
END:VEVENT
END:VCALENDAR