BEGIN:VCALENDAR
VERSION:2.0
PRODID:-//TIS FAMILY COMMUNITY - ECPv6.10.1.1//NONSGML v1.0//EN
CALSCALE:GREGORIAN
METHOD:PUBLISH
X-ORIGINAL-URL:https://tfc.tokyois.com
X-WR-CALDESC:Events for TIS FAMILY COMMUNITY
REFRESH-INTERVAL;VALUE=DURATION:PT1H
X-Robots-Tag:noindex
X-PUBLISHED-TTL:PT1H
BEGIN:VTIMEZONE
TZID:Asia/Tokyo
BEGIN:STANDARD
TZOFFSETFROM:+0900
TZOFFSETTO:+0900
TZNAME:JST
DTSTART:20250101T000000
END:STANDARD
END:VTIMEZONE
BEGIN:VEVENT
DTSTART;TZID=Asia/Tokyo:20250403T163000
DTEND;TZID=Asia/Tokyo:20250403T193000
DTSTAMP:20260425T101826
CREATED:20250403T143639Z
LAST-MODIFIED:20250403T143639Z
UID:5186-1743697800-1743708600@tfc.tokyois.com
SUMMARY:G4 & G5 Movie Night
DESCRIPTION:
URL:https://tfc.tokyois.com/event/g4-g5-movie-night/
CATEGORIES:TIS
END:VEVENT
END:VCALENDAR