BEGIN:VCALENDAR
VERSION:2.0
PRODID:-//TIS FAMILY COMMUNITY - ECPv6.10.1.1//NONSGML v1.0//EN
CALSCALE:GREGORIAN
METHOD:PUBLISH
X-ORIGINAL-URL:https://tfc.tokyois.com
X-WR-CALDESC:Events for TIS FAMILY COMMUNITY
REFRESH-INTERVAL;VALUE=DURATION:PT1H
X-Robots-Tag:noindex
X-PUBLISHED-TTL:PT1H
BEGIN:VTIMEZONE
TZID:Asia/Tokyo
BEGIN:STANDARD
TZOFFSETFROM:+0900
TZOFFSETTO:+0900
TZNAME:JST
DTSTART:20250101T000000
END:STANDARD
END:VTIMEZONE
BEGIN:VEVENT
DTSTART;TZID=Asia/Tokyo:20250402T190000
DTEND;TZID=Asia/Tokyo:20250402T210000
DTSTAMP:20260425T100625
CREATED:20250318T142352Z
LAST-MODIFIED:20250318T142352Z
UID:5155-1743620400-1743627600@tfc.tokyois.com
SUMMARY:TFC Trivia Night
DESCRIPTION:
URL:https://tfc.tokyois.com/event/tfc-trivia-night/
CATEGORIES:Community Events,TFC
END:VEVENT
END:VCALENDAR