BEGIN:VCALENDAR
VERSION:2.0
PRODID:-//TIS FAMILY COMMUNITY - ECPv6.10.1.1//NONSGML v1.0//EN
CALSCALE:GREGORIAN
METHOD:PUBLISH
X-WR-CALNAME:TIS FAMILY COMMUNITY
X-ORIGINAL-URL:https://tfc.tokyois.com
X-WR-CALDESC:Events for TIS FAMILY COMMUNITY
REFRESH-INTERVAL;VALUE=DURATION:PT1H
X-Robots-Tag:noindex
X-PUBLISHED-TTL:PT1H
BEGIN:VTIMEZONE
TZID:Asia/Tokyo
BEGIN:STANDARD
TZOFFSETFROM:+0900
TZOFFSETTO:+0900
TZNAME:JST
DTSTART:20250101T000000
END:STANDARD
END:VTIMEZONE
BEGIN:VEVENT
DTSTART;VALUE=DATE:20250131
DTEND;VALUE=DATE:20250201
DTSTAMP:20260425T125628
CREATED:20250115T184624Z
LAST-MODIFIED:20250115T184624Z
UID:5076-1738281600-1738367999@tfc.tokyois.com
SUMMARY:Pizza Friday
DESCRIPTION:
URL:https://tfc.tokyois.com/event/pizza-friday-3/
CATEGORIES:Fundraising,TFC
END:VEVENT
BEGIN:VEVENT
DTSTART;TZID=Asia/Tokyo:20250131T083000
DTEND;TZID=Asia/Tokyo:20250131T213000
DTSTAMP:20260425T125628
CREATED:20250128T065347Z
LAST-MODIFIED:20250128T065347Z
UID:5095-1738312200-1738359000@tfc.tokyois.com
SUMMARY:Parent Workshop: Introduction to the PYP
DESCRIPTION:
URL:https://tfc.tokyois.com/event/parent-workshop-introduction-to-the-pyp/
CATEGORIES:TIS
END:VEVENT
END:VCALENDAR