BEGIN:VCALENDAR
VERSION:2.0
PRODID:-//TIS FAMILY COMMUNITY - ECPv6.10.1.1//NONSGML v1.0//EN
CALSCALE:GREGORIAN
METHOD:PUBLISH
X-WR-CALNAME:TIS FAMILY COMMUNITY
X-ORIGINAL-URL:https://tfc.tokyois.com
X-WR-CALDESC:Events for TIS FAMILY COMMUNITY
REFRESH-INTERVAL;VALUE=DURATION:PT1H
X-Robots-Tag:noindex
X-PUBLISHED-TTL:PT1H
BEGIN:VTIMEZONE
TZID:Asia/Tokyo
BEGIN:STANDARD
TZOFFSETFROM:+0900
TZOFFSETTO:+0900
TZNAME:JST
DTSTART:20240101T000000
END:STANDARD
END:VTIMEZONE
BEGIN:VEVENT
DTSTART;TZID=Asia/Tokyo:20240613T090000
DTEND;TZID=Asia/Tokyo:20240613T120000
DTSTAMP:20260426T025732
CREATED:20240412T030018Z
LAST-MODIFIED:20240509T001846Z
UID:4783-1718269200-1718280000@tfc.tokyois.com
SUMMARY:Arts Extravaganza
DESCRIPTION:
URL:https://tfc.tokyois.com/event/arts-extravaganza/
CATEGORIES:TIS
END:VEVENT
END:VCALENDAR