BEGIN:VCALENDAR
VERSION:2.0
PRODID:-//TIS FAMILY COMMUNITY - ECPv6.10.1.1//NONSGML v1.0//EN
CALSCALE:GREGORIAN
METHOD:PUBLISH
X-ORIGINAL-URL:https://tfc.tokyois.com
X-WR-CALDESC:Events for TIS FAMILY COMMUNITY
REFRESH-INTERVAL;VALUE=DURATION:PT1H
X-Robots-Tag:noindex
X-PUBLISHED-TTL:PT1H
BEGIN:VTIMEZONE
TZID:Asia/Tokyo
BEGIN:STANDARD
TZOFFSETFROM:+0900
TZOFFSETTO:+0900
TZNAME:JST
DTSTART:20240101T000000
END:STANDARD
END:VTIMEZONE
BEGIN:VEVENT
DTSTART;TZID=Asia/Tokyo:20240520T112000
DTEND;TZID=Asia/Tokyo:20240520T140000
DTSTAMP:20260426T045718
CREATED:20230814T030041Z
LAST-MODIFIED:20240919T015107Z
UID:3816-1716204000-1716213600@tfc.tokyois.com
SUMMARY:May Popcorn Day
DESCRIPTION:We will be offering popcorn during recess time directly after lunch. If your child wishes to purchase popcorn to support us\, please send them into school with ¥100. \nThe volunteers list is published on the website below. If you are interested in volunteering or have any questions\, please contact us! \nPlease click HERE to contact us.
URL:https://tfc.tokyois.com/event/may-popcorn-day-2/
CATEGORIES:Fundraising
ATTACH;FMTTYPE=image/png:https://tfc.tokyois.com/wp-content/uploads/2023/09/2024-May-Popcorn.png
ORGANIZER;CN="Fundraising coordinators":MAILTO:tfc_fundraising@tokyois.com
END:VEVENT
END:VCALENDAR