BEGIN:VCALENDAR
VERSION:2.0
PRODID:-//TIS FAMILY COMMUNITY - ECPv6.10.1.1//NONSGML v1.0//EN
CALSCALE:GREGORIAN
METHOD:PUBLISH
X-WR-CALNAME:TIS FAMILY COMMUNITY
X-ORIGINAL-URL:https://tfc.tokyois.com
X-WR-CALDESC:Events for TIS FAMILY COMMUNITY
REFRESH-INTERVAL;VALUE=DURATION:PT1H
X-Robots-Tag:noindex
X-PUBLISHED-TTL:PT1H
BEGIN:VTIMEZONE
TZID:Asia/Tokyo
BEGIN:STANDARD
TZOFFSETFROM:+0900
TZOFFSETTO:+0900
TZNAME:JST
DTSTART:20240101T000000
END:STANDARD
END:VTIMEZONE
BEGIN:VEVENT
DTSTART;VALUE=DATE:20240501
DTEND;VALUE=DATE:20240504
DTSTAMP:20260426T045627
CREATED:20230618T030041Z
LAST-MODIFIED:20230816T113051Z
UID:3602-1714521600-1714780799@tfc.tokyois.com
SUMMARY:Golden Week Holiday
DESCRIPTION:
URL:https://tfc.tokyois.com/event/golden-week-holiday-2/
CATEGORIES:TIS
END:VEVENT
END:VCALENDAR