BEGIN:VCALENDAR
VERSION:2.0
PRODID:-//TIS FAMILY COMMUNITY - ECPv6.10.1.1//NONSGML v1.0//EN
CALSCALE:GREGORIAN
METHOD:PUBLISH
X-ORIGINAL-URL:https://tfc.tokyois.com
X-WR-CALDESC:Events for TIS FAMILY COMMUNITY
REFRESH-INTERVAL;VALUE=DURATION:PT1H
X-Robots-Tag:noindex
X-PUBLISHED-TTL:PT1H
BEGIN:VTIMEZONE
TZID:Asia/Tokyo
BEGIN:STANDARD
TZOFFSETFROM:+0900
TZOFFSETTO:+0900
TZNAME:JST
DTSTART:20240101T000000
END:STANDARD
END:VTIMEZONE
BEGIN:VEVENT
DTSTART;VALUE=DATE:20240315
DTEND;VALUE=DATE:20240413
DTSTAMP:20260426T063820
CREATED:20240315T030054Z
LAST-MODIFIED:20240316T124710Z
UID:4632-1710460800-1712966399@tfc.tokyois.com
SUMMARY:2024 Spring Fair Token & Game Wristband Pre-Sale
DESCRIPTION:Get a head start at the Spring Fair! As a TIS family member\, you have the exclusive opportunity to pre-purchase tokens (“the Fair’s official currency”) and game wristbands. While the general public waits in line for token and game wristband purchases\, you can skip the queue and dive straight into the fun at the food booths\, games\, and arts and crafts areas! \nPlease see the website below for more information.
URL:https://tfc.tokyois.com/event/2024-spring-fair-token-game-wristband-pre-sale-starts/
CATEGORIES:Spring Fair
ATTACH;FMTTYPE=image/png:https://tfc.tokyois.com/wp-content/uploads/2024/03/Token-Wristband.png
ORGANIZER;CN="Spring Fair Team":MAILTO:cbf_team@tokyois.com
END:VEVENT
BEGIN:VEVENT
DTSTART;TZID=Asia/Tokyo:20240411T090000
DTEND;TZID=Asia/Tokyo:20240417T210000
DTSTAMP:20260426T063820
CREATED:20240403T030021Z
LAST-MODIFIED:20240406T142824Z
UID:4732-1712826000-1713387600@tfc.tokyois.com
SUMMARY:2024 Spring Fair Online Silent Auction
DESCRIPTION:Please come and join us in our Spring Fair 2024 online silent auction!\nExplore a diverse range of items available\, from stunning artworks done by our students to unique experiences and much more. \nRemember\, every bid supports a great cause. All proceeds will be shared between the local charity Mirai no Mori and the TiS Grants program. \nPlease see the website below for more information.
URL:https://tfc.tokyois.com/event/2024-spring-fair-online-silent-auction/
CATEGORIES:Spring Fair
ATTACH;FMTTYPE=image/png:https://tfc.tokyois.com/wp-content/uploads/2024/04/Silent-Auction.png
ORGANIZER;CN="Spring Fair Team":MAILTO:cbf_team@tokyois.com
END:VEVENT
END:VCALENDAR