BEGIN:VCALENDAR
VERSION:2.0
PRODID:-//TIS FAMILY COMMUNITY - ECPv6.10.1.1//NONSGML v1.0//EN
CALSCALE:GREGORIAN
METHOD:PUBLISH
X-WR-CALNAME:TIS FAMILY COMMUNITY
X-ORIGINAL-URL:https://tfc.tokyois.com
X-WR-CALDESC:Events for TIS FAMILY COMMUNITY
REFRESH-INTERVAL;VALUE=DURATION:PT1H
X-Robots-Tag:noindex
X-PUBLISHED-TTL:PT1H
BEGIN:VTIMEZONE
TZID:Asia/Tokyo
BEGIN:STANDARD
TZOFFSETFROM:+0900
TZOFFSETTO:+0900
TZNAME:JST
DTSTART:20240101T000000
END:STANDARD
END:VTIMEZONE
BEGIN:VEVENT
DTSTART;TZID=Asia/Tokyo:20240209T090000
DTEND;TZID=Asia/Tokyo:20240209T120000
DTSTAMP:20260426T094856
CREATED:20231205T030040Z
LAST-MODIFIED:20240127T030608Z
UID:4233-1707469200-1707480000@tfc.tokyois.com
SUMMARY:Valentine's Day Bake Sale
DESCRIPTION:We’re excited to announce our upcoming Valentine’s Day Bake Sale\, and we’re inviting parents and students to contribute homemade or store-bought baked goods for this special event. Additionally\, we’re in need of volunteers among parents to assist with the setup and sales on the day. \nPlease see the website below for more information.
URL:https://tfc.tokyois.com/event/valentines-day-bake-sale-2/
CATEGORIES:Fundraising
ATTACH;FMTTYPE=image/png:https://tfc.tokyois.com/wp-content/uploads/2023/12/2024-Valentines-Day-Bake-Sale.png
ORGANIZER;CN="Fundraising coordinators":MAILTO:tfc_fundraising@tokyois.com
END:VEVENT
END:VCALENDAR