BEGIN:VCALENDAR
VERSION:2.0
PRODID:-//TIS FAMILY COMMUNITY - ECPv6.10.1.1//NONSGML v1.0//EN
CALSCALE:GREGORIAN
METHOD:PUBLISH
X-WR-CALNAME:TIS FAMILY COMMUNITY
X-ORIGINAL-URL:https://tfc.tokyois.com
X-WR-CALDESC:Events for TIS FAMILY COMMUNITY
REFRESH-INTERVAL;VALUE=DURATION:PT1H
X-Robots-Tag:noindex
X-PUBLISHED-TTL:PT1H
BEGIN:VTIMEZONE
TZID:Asia/Tokyo
BEGIN:STANDARD
TZOFFSETFROM:+0900
TZOFFSETTO:+0900
TZNAME:JST
DTSTART:20240101T000000
END:STANDARD
END:VTIMEZONE
BEGIN:VEVENT
DTSTART;TZID=Asia/Tokyo:20240109T083000
DTEND;TZID=Asia/Tokyo:20240109T103000
DTSTAMP:20260426T113411
CREATED:20230814T030016Z
LAST-MODIFIED:20230904T155400Z
UID:3690-1704789000-1704796200@tfc.tokyois.com
SUMMARY:TFC Team Leads Meeting (Current team leads only)
DESCRIPTION:Content is protected.
URL:https://tfc.tokyois.com/event/tfc-team-leads-meeting-6/
CATEGORIES:TFC
ORGANIZER;CN="TFC Lead coordinators":MAILTO:tfc_coordinator@tokyois.com
END:VEVENT
END:VCALENDAR