BEGIN:VCALENDAR
VERSION:2.0
PRODID:-//TIS FAMILY COMMUNITY - ECPv6.10.1.1//NONSGML v1.0//EN
CALSCALE:GREGORIAN
METHOD:PUBLISH
X-WR-CALNAME:TIS FAMILY COMMUNITY
X-ORIGINAL-URL:https://tfc.tokyois.com
X-WR-CALDESC:Events for TIS FAMILY COMMUNITY
REFRESH-INTERVAL;VALUE=DURATION:PT1H
X-Robots-Tag:noindex
X-PUBLISHED-TTL:PT1H
BEGIN:VTIMEZONE
TZID:Asia/Tokyo
BEGIN:STANDARD
TZOFFSETFROM:+0900
TZOFFSETTO:+0900
TZNAME:JST
DTSTART:20230101T000000
END:STANDARD
END:VTIMEZONE
BEGIN:VEVENT
DTSTART;VALUE=DATE:20231215
DTEND;VALUE=DATE:20231216
DTSTAMP:20260426T130227
CREATED:20230618T030035Z
LAST-MODIFIED:20230816T114357Z
UID:3606-1702598400-1702684799@tfc.tokyois.com
SUMMARY:Last Day of School before Winter Break – Early dismissal (12:00pm)
DESCRIPTION:
URL:https://tfc.tokyois.com/event/last-day-of-school-early-dismissal-1200pm-3/
CATEGORIES:TIS
END:VEVENT
END:VCALENDAR